BEGIN:VCALENDAR
VERSION:2.0
PRODID:-//wp-events-plugin.com//6.4.6.4//EN
TZID:Europe/Berlin
X-WR-TIMEZONE:Europe/Berlin
BEGIN:VEVENT
UID:1869@stottern.koeln
DTSTART;TZID=Europe/Berlin:20221018T193000
DTEND;TZID=Europe/Berlin:20221018T213000
DTSTAMP:20220122T200022Z
URL:https://stottern.koeln/events/4873-2022-10-18/
SUMMARY:Gruppenabend - Let’s t..t..talk English
DESCRIPTION:Vielen von uns ist der Englischunterricht in der Schule noch in
  gruseliger Erinnerung. Wo man doch schon beim Deutschsprechen Schwierigke
 iten hatte\, klappte es nun auf Englisch erst recht nicht.\n\nMit diesen E
 rinnerungen wollen wir brechen\, indem wir frei drauf los miteinander Engl
 isch quatschen oder einfach mal etwas vorlesen – ohne bewertet zu werden
 .\n\nUnd ihr werdet sehen\, dass ihr viel mehr draufhabt\, als ihr euch zu
 trauen würdet!\n\nLet’s just have fun!\n\nAllgemeine Informationen zum 
 Gruppenabend\n\nDer traditionelle Gruppenabend ist das Kernstück unserer 
 Aktivitäten und findet jeden Dienstag in der Regel im Doris-Roper-Haus in
  Köln-Ehrenfeld statt. Treffpunkt ist um 19:30 Uhr. Der Abend endet gegen
  21.30 Uhr.\n\nJede Woche kommt hier eine bunt gemischte Gruppe jeden Al­
 ters zusammen\, um über das Stottern und die Erfahrungen damit zu spre­c
 hen oder Situationen und Sprechtechniken zu üben.\n\nAm Anfang des Gruppe
 nabends steht das „Blitzlicht“\, bei dem jeder die Möglichkeit hat\, 
 sich vorzustellen und zu erzählen\, wie es ihm oder ihr momentan geht. Da
 durch gibt es einen leichteren Einstieg in den Abend. Natürlich ist niema
 nd gezwungen\, etwas zu sagen und kann auch gerne nur zuhören. Außerdem 
 kann jeder beim Blitzlicht Themen vorschlagen\, die ihn oder sie gera­de 
 bewegen oder worüber man einfach so mal gerne reden würde.\n\nDer Gruppe
 nabend lebt jedoch von den Teilnehmenden. Es gibt bei uns keine feste Leit
 ung\, so dass jeder den Abend selbst mitgestalten kann. Neue Gesichter jed
 en Alters sind bei uns natürlich immer willkommen. Sie bringen „frische
 n Wind“ und oft auch neue Themen in unsere Gruppe herein. Wir sind natü
 rlich auch für Nicht-Stotternde offen. Egal ob Freunde oder Freundinnen\
 , Partner:innen\, Sprachheilpädagogik-Student:innen\, Logopädenschüler:
 innen - jeder ist bei uns gerne gesehen.\n\nKommt doch einfach mal vorbei!
ATTACH;FMTTYPE=image/jpeg:https://stottern.koeln/wp-content/uploads/2016/0
 2/gruppenabendneu.jpg
CATEGORIES:Gruppenabend
LOCATION:Doris-Roper-Haus\, Kreutzerstr. 5-9\, 50672 Köln\, Deutschland
GEO:50.9432256;6.9284873999999945
X-APPLE-STRUCTURED-LOCATION;VALUE=URI;X-ADDRESS=Kreutzerstr. 5-9\, 50672 K
 öln\, Deutschland;X-APPLE-RADIUS=100;X-TITLE=Doris-Roper-Haus:geo:50.9432
 256,6.9284873999999945
END:VEVENT
BEGIN:VTIMEZONE
TZID:Europe/Berlin
X-LIC-LOCATION:Europe/Berlin
BEGIN:DAYLIGHT
DTSTART:20220327T030000
TZOFFSETFROM:+0100
TZOFFSETTO:+0200
TZNAME:CEST
END:DAYLIGHT
END:VTIMEZONE
END:VCALENDAR