BEGIN:VCALENDAR
VERSION:2.0
PRODID:-//wp-events-plugin.com//6.4.6.4//EN
TZID:Europe/Berlin
X-WR-TIMEZONE:Europe/Berlin
BEGIN:VEVENT
UID:2871@stottern.koeln
DTSTART;TZID=Europe/Berlin:20261212T173000
DTEND;TZID=Europe/Berlin:20261212T230000
DTSTAMP:20260110T094717Z
URL:https://stottern.koeln/events/adventlicher-gespraechs-und-infoabend-5/
SUMMARY:Adventlicher Gesprächs- und Infoabend
DESCRIPTION:Adventlicher Gesprächs- und Infoabend\nEr ist eine alljährlic
 he Tradition: unser Gesprächs- und Infoabend. Mit einem kleinen Weihnacht
 sbuffet und einer Wichtelbescherung läuten wir die Weihnachtszeit ein.\n\
 nBitte bringt für die Wichtelüberraschung eine Kleinigkeit im Wert von 5
 -8 Euro mit. Auf Wunsch der Teilnehmer*innen ist auch Schrottwichteln mög
 lich. Wir werden es rechtzeitig bekanntgeben. Eingeladen sind alle\, die s
 tottern oder sich für das Thema interessieren – wir freuen uns auf den 
 Austausch mit euch.\n\nDen Nicht-Teilnehmern wünschen wir im Kreise eurer
  Familien eine besinnliche Zeit und frohe Weihnachten.\n\nTermin: Samstag\
 , 12. Dezember 2026 ab 17:30 Uhr\, Ende offen\nOrt: Doris-Roper-Haus\, Kre
 utzerstr. 5-9\, 50672 Köln\nAnmeldung: stottern.koeln
ATTACH;FMTTYPE=image/jpeg:https://stottern.koeln/wp-content/uploads/2026/0
 1/Weihnachtsbaum-scaled.jpg
CATEGORIES:In vivo - Mitten im Leben,Öffentlichkeitsarbeit
LOCATION:Doris-Roper-Haus\, Kreutzerstr. 5-9\, 50672 Köln\, Deutschland
GEO:50.9432256;6.9284873999999945
X-APPLE-STRUCTURED-LOCATION;VALUE=URI;X-ADDRESS=Kreutzerstr. 5-9\, 50672 K
 öln\, Deutschland;X-APPLE-RADIUS=100;X-TITLE=Doris-Roper-Haus:geo:50.9432
 256,6.9284873999999945
END:VEVENT
BEGIN:VTIMEZONE
TZID:Europe/Berlin
X-LIC-LOCATION:Europe/Berlin
BEGIN:STANDARD
DTSTART:20261025T020000
TZOFFSETFROM:+0200
TZOFFSETTO:+0100
TZNAME:CET
END:STANDARD
END:VTIMEZONE
END:VCALENDAR