BEGIN:VCALENDAR
VERSION:2.0
PRODID:-//wp-events-plugin.com//6.4.6.4//EN
TZID:Europe/Berlin
X-WR-TIMEZONE:Europe/Berlin
BEGIN:VEVENT
UID:2722@stottern.koeln
DTSTART;TZID=Europe/Berlin:20211204T180000
DTEND;TZID=Europe/Berlin:20211204T233000
DTSTAMP:20211126T210038Z
URL:https://stottern.koeln/events/adventlicher_gespraechs-und_infoabend/
SUMMARY:Adventlicher Gesprächs- und Infoabend
DESCRIPTION:Adventlicher Gesprächs- und Infoabend\n\nNachdem wir 2020 Coro
 na-bedingt leider keinen adventlichen Gesprächs- und Infoabend durchführ
 en konnten\, freuen wir uns sehr darauf\, dieses Jahr wieder euch als Mitg
 lieder\, Angehörige und Interessenten begrüßen zu dürfen. Eingeladen s
 ind hierzu alle Menschen\, die stottern oder am Thema Stottern interessier
 t sind.\n\nHierzu wird mit einem Weihnachtsbuffet in besinnlicher Atmosph
 äre für das leibliche Wohl gesorgt. Wir planen einen Rückblick auf ein 
 vereinsmäßig aktives Jahr und einen Ausblick auf alle Aktionen des komme
 nden Jahres.&nbsp\;Für musikalische Untermalung sorgen wir selbst mittels
  Einsatz unserer Stimmen. Mit kleinen Wichtelgeschenken\, die jeder Teilne
 hmer im Wert von 5\,- € dazu steuert\, wird die Bescherung stattfinden.\
 n\nWir freuen uns auf nette und erfahrungsreiche Gespräche. All denjenige
 n\, die nicht am Abend teilnehmen können\, wünschen wir eine besinnliche
  Zeit im Kreise eurer Familien.\n\nIn Anbetracht der aktuellen Corona-Lage
  verlangt das Quäker-Nachbarschaftsheim als Vermieter die Einhaltung der 
 2G-Regel. Um euch jedoch noch mehr Sicherheit zu bieten\, haben wir uns f
 ür die "2G+"-Regel&nbsp\;entschieden – das heißt ihr müsst beim Betre
 ten der Räumlichkeiten zwei Nachweise vorlegen:\n\n 	Nachweis über volls
 tändigen Impfschutz&nbsp\;(14 Tage Wartezeit) oder&nbsp\;Genesenen-Nachwe
 is\n 	tagesaktueller\, offizieller&nbsp\;Schnelltest (kein Selbsttest)\n\n
 Die „Corona-Dokumentation“ muss über die Corona-Warn-App vorgenommen 
 werden.\n\nWir hoffen auf euer Verständnis\, dass wir euch nur so eine m
 öglichst große Sicherheit bieten können. Der Abend wird im großen Saal
  des&nbsp\;Quäker-Nachbarschaftsheims stattfinden\, in dem wir ausreichen
 d Platz haben sollten. Wir werden auch regelmäßig lüften.\n\nTermin: Sa
 mstag\, 4. Dezember 2021 ab 18:00 Uhr\, Ende offen\n\nOrt: Quäker-Nachbar
 schaftsheim\, Kreutzerstr. 5-9\, 50672 Köln
CATEGORIES:Öffentlichkeitsarbeit
LOCATION:Doris-Roper-Haus\, Kreutzerstr. 5-9\, 50672 Köln\, Deutschland
GEO:50.9432256;6.9284873999999945
X-APPLE-STRUCTURED-LOCATION;VALUE=URI;X-ADDRESS=Kreutzerstr. 5-9\, 50672 K
 öln\, Deutschland;X-APPLE-RADIUS=100;X-TITLE=Doris-Roper-Haus:geo:50.9432
 256,6.9284873999999945
END:VEVENT
BEGIN:VTIMEZONE
TZID:Europe/Berlin
X-LIC-LOCATION:Europe/Berlin
BEGIN:STANDARD
DTSTART:20211031T020000
TZOFFSETFROM:+0200
TZOFFSETTO:+0100
TZNAME:CET
END:STANDARD
END:VTIMEZONE
END:VCALENDAR