BEGIN:VCALENDAR
VERSION:2.0
PRODID:-//wp-events-plugin.com//6.4.6.4//EN
TZID:Europe/Berlin
X-WR-TIMEZONE:Europe/Berlin
BEGIN:VEVENT
UID:2608@stottern.koeln
DTSTART;TZID=Europe/Berlin:20190322T000000
DTEND;TZID=Europe/Berlin:20190324T000000
DTSTAMP:20190218T000007Z
URL:https://stottern.koeln/events/augenblicklich-leben-2/
SUMMARY:Augenblicklich leben – Meditation und Stille in der Fastenzeit
DESCRIPTION:Augenblicklich leben – Meditation und Stille in der Fastenzei
 t \nBald nach dem Tod Rabbi Mosches von Kobryn wurde einer seiner Schüle
 r (...) gefragt: „Was war für euren Lehrer das Wichtigste?“ Er besann
  sich\, dann gab er zur Antwort: „Womit er sich gerade abgab.“ - aus d
 em Chassidismus.\nDie beste Gelegenheit zum Leben ist jetzt. Denn es gibt 
 kein anderes Leben\, als das in diesem Augenblick. Dieses Seminar ist geda
 cht für Menschen\, die für sich einen spirituellen Zugang zum Leben such
 en\, vertiefen oder pflegen möchten. Es möchte dazu einladen auszuspanne
 n\, sich herauszunehmen aus dem tagtäglichen Treiben\, sich Zeit zu nehme
 n und anzukommen im Augenblick\, wo das Leben uns begegnen möchte.\nWir w
 erden uns - mit neuem Programm - in Meditations-\, Körper- und Stilleübu
 ngen dem Augenblicklichen zuwenden und im Schauen\, Lauschen und Spüren d
 em Leben von Augenblick zu Augenblick folgen. So können wir uns darin üb
 en\, auch im Alltag augenblicklich zu leben.\nEingeladen hierzu sind alle\
 , unabhängig von ihrer Weltanschauung\, die den Reichtum und die Fülle d
 es Lebens im Augenblick entdecken möchten. Bitte bequeme Kleidung und Wol
 ldecke mitbringen.\nReferent: Leo Jacobs (ehem. Leismann-Gerhards)\, Sankt
  Augustin (Kontemplationslehrer und Gestalttherapeut\, Psychoonkologischer
  Begleiter\, Trainer Grundübungen der Kraft)\nTermin/Ort: 22. bis 24. Mä
 rz 2019 in Rietberg (bei Gütersloh)\nKosten: Mitglieder Stotterer-Selbsth
 ilfe Köln e.V.: auf Anfrage\n Mitglieder BVSS: 70\,- €\; Nicht-Mitglied
 er: 90\,- €\nAnmeldung: Online auf www.bvss.de\nKontakt: Leo Jacobs\, Te
 l.: 0151 / 17416139\, Mail: leo.jacobs@t-online.de\n
ATTACH;FMTTYPE=image/jpeg:https://stottern.koeln/wp-content/uploads/2018/0
 1/BVSS_logo_quadrat.png
LOCATION:Benediktinerinnen-Abtei Varensell\, Hauptstr. 53\, 33397 Rietberg\
 , Deutschland
GEO:51.8594483;8.43895120000002
X-APPLE-STRUCTURED-LOCATION;VALUE=URI;X-ADDRESS=Hauptstr. 53\, 33397 Rietbe
 rg\, Deutschland;X-APPLE-RADIUS=100;X-TITLE=Benediktinerinnen-Abtei Varens
 ell:geo:51.8594483,8.43895120000002
END:VEVENT
BEGIN:VTIMEZONE
TZID:Europe/Berlin
X-LIC-LOCATION:Europe/Berlin
BEGIN:STANDARD
DTSTART:20181028T020000
TZOFFSETFROM:+0200
TZOFFSETTO:+0100
TZNAME:CET
END:STANDARD
END:VTIMEZONE
END:VCALENDAR