BEGIN:VCALENDAR
VERSION:2.0
PRODID:-//wp-events-plugin.com//6.4.6.4//EN
TZID:Europe/Berlin
X-WR-TIMEZONE:Europe/Berlin
BEGIN:VEVENT
UID:2609@stottern.koeln
DTSTART;TZID=Europe/Berlin:20191213T000000
DTEND;TZID=Europe/Berlin:20191215T000000
DTSTAMP:20190217T235618Z
URL:https://stottern.koeln/events/augenblicklich-leben-3/
SUMMARY:Augenblicklich leben – Meditation und Stille in der Adventszeit
DESCRIPTION:Augenblicklich leben – Meditation und Stille in der Adventsze
 it \nBald nach dem Tod Rabbi Mosches von Kobryn wurde einer seiner Schül
 er (...) gefragt: „Was war für euren Lehrer das Wichtigste?“ Er besan
 n sich\, dann gab er zur Antwort: „Womit er sich gerade abgab.“ - aus 
 dem Chassidismus.\nDie beste Gelegenheit zum Leben ist jetzt. Denn es gibt
  kein anderes Leben\, als das in diesem Augenblick. Dieses Seminar ist ged
 acht für Menschen\, die für sich einen spirituellen Zugang zum Leben suc
 hen\, vertiefen oder pflegen möchten. Es möchte dazu einladen auszuspann
 en\, sich herauszunehmen aus dem tagtäglichen Treiben\, sich Zeit zu nehm
 en und anzukommen im Augenblick\, wo das Leben uns begegnen möchte.\nWir 
 werden uns - mit neuem Programm - in Meditations-\, Körper- und Stilleüb
 ungen dem Augenblicklichen zuwenden und im Schauen\, Lauschen und Spüren 
 dem Leben von Augenblick zu Augenblick folgen. So können wir uns darin ü
 ben\, auch im Alltag augenblicklich zu leben.\nEingeladen hierzu sind alle
 \, unabhängig von ihrer Weltanschauung\, die den Reichtum und die Fülle 
 des Lebens im Augenblick entdecken möchten. Bitte bequeme Kleidung und Wo
 lldecke mitbringen.\nReferent: Leo Jacobs (ehem. Leismann-Gerhards)\, Sank
 t Augustin (Kontemplationslehrer und Gestalttherapeut\, Psychoonkologische
 r Begleiter\, Trainer Grundübungen der Kraft)\nTermin/Ort: 13. bis 15. De
 zember 2019 in Rietberg (bei Gütersloh)\nKosten: Mitglieder Stotterer-Sel
 bsthilfe Köln e.V.: auf Anfrage\n Mitglieder BVSS: 70\,- €\; Nicht-Mitg
 lieder: 90\,- €\nAnmeldung: Online auf www.bvss.de\nKontakt: Leo Jacobs\
 , Tel.: 0151 / 17416139\, Mail: leo.jacobs@t-online.de\n
ATTACH;FMTTYPE=image/jpeg:https://stottern.koeln/wp-content/uploads/2018/0
 1/BVSS_logo_quadrat.png
LOCATION:Benediktinerinnen-Abtei Varensell\, Hauptstr. 53\, 33397 Rietberg\
 , Deutschland
GEO:51.8594483;8.43895120000002
X-APPLE-STRUCTURED-LOCATION;VALUE=URI;X-ADDRESS=Hauptstr. 53\, 33397 Rietbe
 rg\, Deutschland;X-APPLE-RADIUS=100;X-TITLE=Benediktinerinnen-Abtei Varens
 ell:geo:51.8594483,8.43895120000002
END:VEVENT
BEGIN:VTIMEZONE
TZID:Europe/Berlin
X-LIC-LOCATION:Europe/Berlin
BEGIN:STANDARD
DTSTART:20191027T020000
TZOFFSETFROM:+0200
TZOFFSETTO:+0100
TZNAME:CET
END:STANDARD
END:VTIMEZONE
END:VCALENDAR