BEGIN:VCALENDAR
VERSION:2.0
PRODID:-//wp-events-plugin.com//6.4.6.4//EN
TZID:Europe/Berlin
X-WR-TIMEZONE:Europe/Berlin
BEGIN:VEVENT
UID:2615@stottern.koeln
DTSTART;TZID=Europe/Berlin:20190524T000000
DTEND;TZID=Europe/Berlin:20190526T000000
DTSTAMP:20190218T201119Z
URL:https://stottern.koeln/events/begegnungswochenende-nrw-in-wiehl/
SUMMARY:Begegnungswochenende NRW in Wiehl
DESCRIPTION:Begegnungswochenende NRW in Wiehl\nDie moderne Jugendherberge W
 iehl liegt mitten im Naturpark Bergisches Land ideal für Erholungssuchend
 e! Dank der Nähe zur Domstadt Köln ist sie verkehrstechnisch sehr gut an
 gebunden. Viele Sehenswürdigkeiten wie der Wildpark\, das Schloss Homburg
  oder die Tropfsteinhöhle sind zu Fuß schnell zu erreichen.\nDas Begegnu
 ngswochenende beginnt am Freitag\, den 24. Mai 2019\, um 18 Uhr mit einem 
 gemeinsamen Abendessen.\nAm Samstag haben wir wieder abwechslungsreiche Pr
 ogrammpunkte für euch zur Auswahl z.B. Besuch im Kletterwald\, Führung d
 urch die Tropfsteinhöhle\, Gang über den 1.635 Meter langen und 34 Meter
  hohen Baumwipfelpfad oder einen entspannenden Arbeitskreis. Am Abend woll
 en wir gemütlich beisammensitzen und Spaß haben.\nAm Sonntag findet nach
  dem Frühstück die Mitgliederversammlung 2019 des LV NRW statt. Das Woch
 enende wird nach dem Mittagessen um ca. 13 Uhr enden.\nWir freuen uns auf 
 euch!\nTermin/Ort: 24. bis 26. Mai 2019 in Wiehl\nKosten: Mitglieder Stott
 erer-Selbsthilfe Köln e.V.: auf Anfrage\n Mitglieder BVSS: ab 70\,- €\;
  Nicht-Mitglieder: ab 90\,- €\n Schüler\, Studenten und Auszubildende: 
 ab 30\,- €\nAnmeldung: Online auf www.bvss.de\nKontakt: Kathleen Roijen\
 , Tel.: 0172 / 1685553\, Mail: k.roijen@gmx.de
ATTACH;FMTTYPE=image/jpeg:https://stottern.koeln/wp-content/uploads/2018/0
 1/BVSS_logo_quadrat.png
LOCATION:Jugendherberge Wiehl\, An der Krähenhardt 6\, 51674 Wiehl\, Deuts
 chland
GEO:50.9444483;7.553977600000053
X-APPLE-STRUCTURED-LOCATION;VALUE=URI;X-ADDRESS=An der Krähenhardt 6\, 516
 74 Wiehl\, Deutschland;X-APPLE-RADIUS=100;X-TITLE=Jugendherberge Wiehl:geo
 :50.9444483,7.553977600000053
END:VEVENT
BEGIN:VTIMEZONE
TZID:Europe/Berlin
X-LIC-LOCATION:Europe/Berlin
BEGIN:DAYLIGHT
DTSTART:20190331T030000
TZOFFSETFROM:+0100
TZOFFSETTO:+0200
TZNAME:CEST
END:DAYLIGHT
END:VTIMEZONE
END:VCALENDAR