BEGIN:VCALENDAR
VERSION:2.0
PRODID:-//wp-events-plugin.com//6.4.6.4//EN
TZID:Europe/Berlin
X-WR-TIMEZONE:Europe/Berlin
BEGIN:VEVENT
UID:2854@stottern.koeln
DTSTART;TZID=Europe/Berlin:20260618T130000
DTEND;TZID=Europe/Berlin:20260618T140000
DTSTAMP:20260401T200007Z
URL:https://stottern.koeln/events/besuch-der-logopaedenschule-koeln-2026/
SUMMARY:Besuch der Logopädenschule Köln
DESCRIPTION:Besuch der Logopädenschule Köln\nEin guter Stottertherapeut k
 ann die subjektive Lebensqualität stotternder Menschen erheblich verbesse
 rn – das weiß niemand besser als wir.\n\nUm Studierenden der Logopädie
  und Sprachtherapie und somit zukünftigen Stottertherapeutinnen und -ther
 apeuten einen Einblick in den Alltag und in das Innenleben einer stotternd
 en Person zu geben\, besuchen wir die Studierenden in ihrer Lehrveranstalt
 ung in Köln und Bonn und beantworten ihnen Fragen rund um’s Thema Stott
 ern.\n\nAus erster Hand informieren wir über das Stottern\, die positiven
  Effekte der Selbsthilfe auf den Einzelnen und die Effekte einer sprachthe
 rapeutischen Behandlung.\n\nIhr möchtet uns unterstützen und den Therape
 utinnen und Therapeuten von morgen die bestmöglichen Voraussetzungen für
  ihren Berufseinstieg ermöglichen?\n\nDann meldet euch bei uns – und st
 ellt euch der sprachlichen Herausforderung.\n\nTermin: Donnerstag\, 18. Ju
 ni 2026\, Logopädenschule Köln\nUhrzeit: 13:00 bis 14:00\nLeitung: Vorst
 and der SHG\nKontakt: info@stottern.koeln
ATTACH;FMTTYPE=image/jpeg:https://stottern.koeln/wp-content/uploads/2016/0
 2/gruppenabendneu.jpg
CATEGORIES:Öffentlichkeitsarbeit
LOCATION:IB-GiS mbH Medizinische Akademie Köln\, Schönhauser Str. 64\, 50
 968 Köln\, Deutschland
GEO:50.9120713;6.964416300000039
X-APPLE-STRUCTURED-LOCATION;VALUE=URI;X-ADDRESS=Schönhauser Str. 64\, 5096
 8 Köln\, Deutschland;X-APPLE-RADIUS=100;X-TITLE=IB-GiS mbH Medizinische A
 kademie Köln:geo:50.9120713,6.964416300000039
END:VEVENT
BEGIN:VTIMEZONE
TZID:Europe/Berlin
X-LIC-LOCATION:Europe/Berlin
BEGIN:DAYLIGHT
DTSTART:20260329T030000
TZOFFSETFROM:+0100
TZOFFSETTO:+0200
TZNAME:CEST
END:DAYLIGHT
END:VTIMEZONE
END:VCALENDAR