BEGIN:VCALENDAR
VERSION:2.0
PRODID:-//wp-events-plugin.com//6.4.6.4//EN
TZID:Europe/Berlin
X-WR-TIMEZONE:Europe/Berlin
BEGIN:VEVENT
UID:2873@stottern.koeln
DTSTART;TZID=Europe/Berlin:20261010T133000
DTEND;TZID=Europe/Berlin:20261010T143000
DTSTAMP:20260108T213925Z
URL:https://stottern.koeln/events/besuch-der-logopaediestudenten-der-unive
 rsitaet-zu-koeln-2/
SUMMARY:Besuch der Logopädiestudenten der Universität zu Köln
DESCRIPTION:Besuch der Logopädiestudenten der Universität zu Köln\nEin g
 uter Stottertherapeut kann die subjektive Lebensqualität stotternder Mens
 chen erheblich verbessern – das weiß niemand besser als wir.\n\nUm Stud
 ierenden der Logopädie und Sprachtherapie und somit zukünftigen Stottert
 herapeutinnen und -therapeuten einen Einblick in den Alltag und in das Inn
 enleben einer stotternden Person zu geben\, besuchen wir die Studierenden 
 in ihrer Lehrveranstaltung in Köln und Bonn und beantworten ihnen Fragen 
 rund um’s Thema Stottern. Aus erster Hand informieren wir über das Stot
 tern\, die positiven Effekte der Selbsthilfe auf den Einzelnen und die Eff
 ekte einer sprachtherapeutischen Behandlung.\n\nIhr möchtet uns unterstü
 tzen und den Therapeutinnen und Therapeuten von morgen die bestmöglichen 
 Voraussetzungen für ihren Berufseinstieg ermöglichen? Dann meldet euch u
 nter info@stottern.koeln bei uns – und stellt euch der sprachlichen Hera
 usforderung.\n\nTermin: Samstag\, 10. Oktober 2026\, Universität zu Köln
 \nUhrzeit: 13:30 bis 14:30\nLeitung: Vorstand der SHG\nKontakt: info@stott
 ern.koeln
ATTACH;FMTTYPE=image/jpeg:https://stottern.koeln/wp-content/uploads/2016/0
 2/gruppenabendneu.jpg
CATEGORIES:Öffentlichkeitsarbeit
LOCATION:Universität zu Köln\, Albertus-Magnus-Platz\, Köln\, Deutschlan
 d
GEO:50.9279194;6.927969200000007
X-APPLE-STRUCTURED-LOCATION;VALUE=URI;X-ADDRESS=Albertus-Magnus-Platz\, Kö
 ln\, Deutschland;X-APPLE-RADIUS=100;X-TITLE=Universität zu Köln:geo:50.9
 279194,6.927969200000007
END:VEVENT
BEGIN:VTIMEZONE
TZID:Europe/Berlin
X-LIC-LOCATION:Europe/Berlin
BEGIN:DAYLIGHT
DTSTART:20260329T030000
TZOFFSETFROM:+0100
TZOFFSETTO:+0200
TZNAME:CEST
END:DAYLIGHT
END:VTIMEZONE
END:VCALENDAR