BEGIN:VCALENDAR
VERSION:2.0
PRODID:-//wp-events-plugin.com//6.4.6.4//EN
TZID:Europe/Berlin
X-WR-TIMEZONE:Europe/Berlin
BEGIN:VEVENT
UID:2607@stottern.koeln
DTSTART;TZID=Europe/Berlin:20190310T100000
DTEND;TZID=Europe/Berlin:20190310T180000
DTSTAMP:20190218T005834Z
URL:https://stottern.koeln/events/der-landesverband-trifft-sich-in-koelle/
SUMMARY:Der Landesverband trifft sich in Kölle
DESCRIPTION:Der Landesverband trifft sich in Kölle\nDie Vorstandstreffen u
 nseres Landesverbandes „Stottern &amp\; Selbsthilfe NRW e.V.“ sind imm
 er öffentlich\, jedes BVSS- bzw. Vereinsmitglied oder Interessierte aus N
 RW ist zur Sitzung herzlich eingeladen. Das erste Treffen in diesem Jahr f
 indet am Sonntag\, 10.03.2019 um 10:00 Uhr bei uns in Köln im Quäker-Nac
 hbarschaftsheim statt.\nKommt einfach vorbei und schaut\, was unser Landes
 verband in nächster Zeit für stotternde Menschen plant. Bei Rückfragen 
 oder für eine kurze Anmeldung zum Treffen meldet euch bitte per Mail bei 
 uns.\nTermin: Sonntag\, 10. März 2019 um 10:00 Uhr\, Ende offen\nKontakt:
  Christoph Steuter\, Mail: info@stottern-nrw.de
LOCATION:Doris-Roper-Haus\, Kreutzerstr. 5-9\, 50672 Köln\, Deutschland
GEO:50.9432256;6.9284873999999945
X-APPLE-STRUCTURED-LOCATION;VALUE=URI;X-ADDRESS=Kreutzerstr. 5-9\, 50672 K
 öln\, Deutschland;X-APPLE-RADIUS=100;X-TITLE=Doris-Roper-Haus:geo:50.9432
 256,6.9284873999999945
END:VEVENT
BEGIN:VTIMEZONE
TZID:Europe/Berlin
X-LIC-LOCATION:Europe/Berlin
BEGIN:STANDARD
DTSTART:20181028T020000
TZOFFSETFROM:+0200
TZOFFSETTO:+0100
TZNAME:CET
END:STANDARD
END:VTIMEZONE
END:VCALENDAR