BEGIN:VCALENDAR
VERSION:2.0
PRODID:-//wp-events-plugin.com//6.4.6.4//EN
TZID:Europe/Berlin
X-WR-TIMEZONE:Europe/Berlin
BEGIN:VEVENT
UID:2606@stottern.koeln
DTSTART;TZID=Europe/Berlin:20190219T090000
DTEND;TZID=Europe/Berlin:20190223T180000
DTSTAMP:20190218T080558Z
URL:https://stottern.koeln/events/didacta-die-bildungsmesse/
SUMMARY:didacta - die Bildungsmesse
DESCRIPTION:didacta - die Bildungsmesse\nHalle 8.1 - Stand B052\nAuf der di
 esjährigen Bildungsmesse didacta ist der LV „Stottern &amp\; Selbsthilf
 e NRW e.V.“ wieder mit einem Messestand vertreten - nur alle drei Jahre 
 in Köln! Es geht darum\, Lehrer und Ausbilder zum Thema Stottern &amp\; S
 chule zu informieren. Die BVSS hat im Oktober 2018 zu diesem Thema eine ga
 nz neue Internetkampagne gestartet: www.stottern-und-schule.de. Die BVSS u
 nd unser LV würden sich über eure Unterstützung am Messestand sehr freu
 en\, vielleicht mag sich einer der Herausforderung in den Messehallen stel
 len?\nKontakt: Martina El Meskioui\, Mail: el-meskioui@bvss.de
LOCATION:Koelnmesse\, Messeplatz 1\, 50679 Köln\, Deutschland
GEO:50.9452712;6.97932830000002
X-APPLE-STRUCTURED-LOCATION;VALUE=URI;X-ADDRESS=Messeplatz 1\, 50679 Köln\
 , Deutschland;X-APPLE-RADIUS=100;X-TITLE=Koelnmesse:geo:50.9452712,6.97932
 830000002
END:VEVENT
BEGIN:VTIMEZONE
TZID:Europe/Berlin
X-LIC-LOCATION:Europe/Berlin
BEGIN:STANDARD
DTSTART:20181028T020000
TZOFFSETFROM:+0200
TZOFFSETTO:+0100
TZNAME:CET
END:STANDARD
END:VTIMEZONE
END:VCALENDAR