BEGIN:VCALENDAR
VERSION:2.0
PRODID:-//wp-events-plugin.com//6.4.6.4//EN
TZID:Europe/Berlin
X-WR-TIMEZONE:Europe/Berlin
BEGIN:VEVENT
UID:2620@stottern.koeln
DTSTART;TZID=Europe/Berlin:20190901T130000
DTEND;TZID=Europe/Berlin:20190901T170000
DTSTAMP:20190221T232714Z
URL:https://stottern.koeln/events/ehrenamtstag2019/
SUMMARY:Kölner Ehrenamtstag
DESCRIPTION:Kölner Ehrenamtstag\nIm Rahmen des Kölner Ehrenamtstags erhal
 ten Einsatzfreudige und Interessierte auf einer großen Info-Börse von ru
 nd 70 Institutionen aus Köln vielfältige Informationen rund um das Ehren
 amt und bürgerschaftliches Engagement.\nWir wollen diese Gelegenheit nutz
 en\, um die Bundesvereinigung und unsere Kölner Gruppe zu repräsentieren
  und über das Thema Stottern jeglichen Interessenten vielfältige Informa
 tionen zur Verfügung zu stellen. Weitere Informationen gibt es hier.\nWen
 n ihr uns unterstützen und euch dieser Herausforderung stellen möchtet\,
  meldet euch bei uns unter info@stottern.koeln .
CATEGORIES:Öffentlichkeitsarbeit
LOCATION:Alter Markt und Heumarkt\, Unter Käster\, Köln\, 50667\, Deutsch
 land
GEO:50.93773119999999;6.960268600000063
X-APPLE-STRUCTURED-LOCATION;VALUE=URI;X-ADDRESS=Unter Käster\, Köln\, 506
 67\, Deutschland;X-APPLE-RADIUS=100;X-TITLE=Alter Markt und Heumarkt:geo:5
 0.93773119999999,6.960268600000063
END:VEVENT
BEGIN:VTIMEZONE
TZID:Europe/Berlin
X-LIC-LOCATION:Europe/Berlin
BEGIN:DAYLIGHT
DTSTART:20190331T030000
TZOFFSETFROM:+0100
TZOFFSETTO:+0200
TZNAME:CEST
END:DAYLIGHT
END:VTIMEZONE
END:VCALENDAR