BEGIN:VCALENDAR
VERSION:2.0
PRODID:-//wp-events-plugin.com//6.4.6.4//EN
TZID:Europe/Berlin
X-WR-TIMEZONE:Europe/Berlin
BEGIN:VEVENT
UID:2610@stottern.koeln
DTSTART;TZID=Europe/Berlin:20190405T000000
DTEND;TZID=Europe/Berlin:20190407T000000
DTSTAMP:20190218T001856Z
URL:https://stottern.koeln/events/hoert-mich/
SUMMARY:„Hört mich\, hört mir zu\, liebt mich.“
DESCRIPTION:„Hört mich\, hört mir zu\, liebt mich.“\nWas einst Natali
 e Wood über James Dean sagte\, kann als eines der universell gültigen\, 
 menschlichen Bedürfnisse verstanden werden.\nWir alle wollen wahr-genomme
 n und so angenommen werden\, wie wir sind. Wir wünschen uns in der Begegn
 ung mit dem Anderen einen unvoreingenommenen\, wertfreien Kontakt\; achtsa
 m und mit Wohlwollen.\nOft genug geschieht dies nicht. Erleben wir in frü
 hen Jahren gar häufig\, dass unser Bedürfnis unbeantwortet bleibt\, kann
  die Sehnsucht nach der Erfüllung jahrelang unser Fühlen\, Verhalten und
  Selbstbild beeinflussen.\nWas können wir selbst tun\, um dem anderen off
 en und achtsam zu begegnen? Wozu kann eine Vermeidung dessen gut sein?\nDi
 esen Fragen / Themen wollen wir an unserem Wochenende nachspüren. In eine
 m geschützten Raum mit wertfreiem Blick auf das\, was ist\, gibt es Geleg
 enheit zur Selbstreflektion\, Austausch\, Paar- und Gruppenübungen. Wir n
 utzen dafür Stimme und Gehör sowie den gesamten Körper als Ausdrucksmö
 glichkeit unserer Seele. Jeder ist eingeladen\, sich in seinem Maße zu ö
 ffnen und da zu sein.\nWir freuen uns auf die Begegnung mit Dir!\nReferent
 en: Karin Scholz\, Troisdorf (Gestaltberaterin DVG)\, Uwe Barthel (Gestalt
 therapeut\, Körpertherapeut)\nTermin/Ort: 5. bis 7. April 2019 in Bonn\nK
 osten: Mitglieder Stotterer-Selbsthilfe Köln e.V.: auf Anfrage\n Mitglied
 er BVSS: ab 70\,- €\; Nicht-Mitglieder: ab 90\,- €\nAnmeldung: Online 
 auf www.bvss.de\nKontakt: Karin Scholz\, Tel.: 01577 / 5246031\, Mail: ber
 atungspraxis.scholz@netcologne.de
ATTACH;FMTTYPE=image/jpeg:https://stottern.koeln/wp-content/uploads/2018/0
 1/BVSS_logo_quadrat.png
LOCATION:DJH Bonn\, Haager Weg 42\, 53127 Bonn\, Deutschland
GEO:50.6994555;7.091840400000024
X-APPLE-STRUCTURED-LOCATION;VALUE=URI;X-ADDRESS=Haager Weg 42\, 53127 Bonn\
 , Deutschland;X-APPLE-RADIUS=100;X-TITLE=DJH Bonn:geo:50.6994555,7.0918404
 00000024
END:VEVENT
BEGIN:VTIMEZONE
TZID:Europe/Berlin
X-LIC-LOCATION:Europe/Berlin
BEGIN:DAYLIGHT
DTSTART:20190331T030000
TZOFFSETFROM:+0100
TZOFFSETTO:+0200
TZNAME:CEST
END:DAYLIGHT
END:VTIMEZONE
END:VCALENDAR