BEGIN:VCALENDAR
VERSION:2.0
PRODID:-//wp-events-plugin.com//6.4.6.4//EN
TZID:Europe/Berlin
X-WR-TIMEZONE:Europe/Berlin
BEGIN:VEVENT
UID:2603@stottern.koeln
DTSTART;TZID=Europe/Berlin:20190517T160000
DTEND;TZID=Europe/Berlin:20190519T110000
DTSTAMP:20190507T221401Z
URL:https://stottern.koeln/events/kommunikatives-wochenende-2019/
SUMMARY:Kommunikatives Wochenende
DESCRIPTION:Bitte beachtet\, dass der Anmeldeschluss für das Kommunikative
  Wochenende der 16. Mai 2019 ist!\nKommunikatives Wochenende\nNach den gut
 en Erfahrungen aus 2015 und 2017 wollen wir dieses Jahr unser drittes Komm
 unikatives Wochenende im Sauerland veranstalten. Hierfür haben wir vom 17
 . bis 19. Mai 2019 ein Selbstversorgerhaus in Olsberg-Elpe angemietet. Das
  Haus ist ideal zum Teambuilding und groß genug um verschiedenste Sprach-
  und Rhetorik-Übungen abzuhalten. Alle Mitglieder bringen sich nach ihren
  Stärken ein.\nIn diesem Jahr wollen wir wieder verschiedene Workshops un
 ter dem Motto „Von Mitgliedern - für Mitglieder“ anbieten. Hierfür s
 ind eure Ideen und euer Engagement gefragt.\nVorläufiger Programmplan:\nF
 reitag:\n\n\n 	&nbsp\;Anreise\n 	Gemeinsames Abendessen\n 	Anschließend K
 ennenlern- und Spieleabend: Diesen Abend wollen wir in lockerer Atmosphär
 e mit Gesprächen und Spielen verbringen.\n\nSamstag:\n\n\n 	Frühstück\n
  	Workshops am Vormittag (10:00 bis 12:00 Uhr)\n\n 	Mittagspause und Mitta
 gsessen\n 	anschließend Gemeinsamer Spaziergang\n 	Workshops am Nachmitta
 g (15:00 bis 17:00 Uhr)\n\n 	Grillabend mit „open stage“ - Reflektions
 einheit über das erlebte Wochenende\n\nSonntag:\n\n\n 	Frühstück\n 	Abr
 eise\n\nInformationen zu den geplanten Workshops werden rechtzeitig bekann
 tgegeben.\nInformationen zum Haus findet ihr hier.\nLeitung: Orga-Team der
  SHG Köln\nAnmeldeschluss: 16. April 2019\nTermin: Freitag\, 17. Mai 2019
  bis Sonntag\, 19. Mai 2019\nOrt:  Haus Hohenstein\, In der Dormecke\, 599
 39 Olsberg\nKosten: Mitglieder: 20€\; Förder- und Nichtmitglieder: 30
 €\n\nKontakt: Giulia Belfiore und Hubertus Lehnen\, Mail: info@stottern.
 koeln
CATEGORIES:In vivo - Mitten im Leben
LOCATION:Haus Hohenstein\, In der Dormecke\, 59939 Olsberg\, Deutschland
GEO:51.2768366;8.444748900000036
X-APPLE-STRUCTURED-LOCATION;VALUE=URI;X-ADDRESS=In der Dormecke\, 59939 Ols
 berg\, Deutschland;X-APPLE-RADIUS=100;X-TITLE=Haus Hohenstein:geo:51.27683
 66,8.444748900000036
END:VEVENT
BEGIN:VTIMEZONE
TZID:Europe/Berlin
X-LIC-LOCATION:Europe/Berlin
BEGIN:DAYLIGHT
DTSTART:20190331T030000
TZOFFSETFROM:+0100
TZOFFSETTO:+0200
TZNAME:CEST
END:DAYLIGHT
END:VTIMEZONE
END:VCALENDAR