BEGIN:VCALENDAR
VERSION:2.0
PRODID:-//wp-events-plugin.com//6.4.6.4//EN
TZID:Europe/Berlin
X-WR-TIMEZONE:Europe/Berlin
BEGIN:VEVENT
UID:2718@stottern.koeln
DTSTART;TZID=Europe/Berlin:20211022T160000
DTEND;TZID=Europe/Berlin:20211024T180000
DTSTAMP:20211021T230357Z
URL:https://stottern.koeln/events/kommunikatives-wochenende2021/
SUMMARY:Kommunikatives Wochenende
DESCRIPTION:Kommunikatives Wochenende\nNach den guten Erfahrungen aus 2015\
 , 2017 und 2019 wollen wir dieses Jahr unser viertes Kommunikatives Wochen
 ende veranstalten. Hierfür haben wir vom 22. bis 24. Oktober 2021 ein Sel
 bstversorgerhaus in Medebach angemietet. Das Haus ist ideal zum Teambuildi
 ng und groß genug um verschiedenste Sprach- und Rhetorik-Übungen abzuhal
 ten. Alle Mitglieder bringen sich nach ihren Stärken ein.\n\nBitte beacht
 et unser Hygienekonzept:\n\n 	Für das Wochenende gilt die 3G-Regel - das 
 heißt die Teilnehmer müssen am Ankunftstag einen der folgenden Nachweise
  vorlegen:\na) Nachweis über vollständigen Impfschutz\nb) Genesenen-Nach
 weis\nc) tagesaktueller Schnelltest (kein Selbsttest)\n 	Für Teilnehmer d
 er Gruppe c) ist am Samstag ein weiterer Selbsttest erforderlich\, den der
  Verein zur Verfügung stellt. Teilnehmer der Gruppen a) und b) können na
 türlich freiwillig auch einen Selbsttest vor Ort machen.\n 	Darüber hina
 us gelten natürlich die bekannten Hygieneregeln.\n\nVorläufiger Programm
 plan:\n\nFreitag:\n\n 	Anreise\n 	Gemeinsames Abendessen\n 	Anschließend 
 Kennenlern- und Spieleabend: Diesen Abend wollen wir in lockerer Atmosphä
 re mit Gesprächen und Spielen verbringen.\n\nSamstag:\n\n 	Frühstück\n 
 	Workshops am Vormittag (10:00 bis 12:00 Uhr)\n\n 	Mittagspause und Mittag
 sessen\n 	anschließend Gemeinsamer Spaziergang\n 	Workshops am Nachmittag
  (15:00 bis 17:00 Uhr)\n 	Abendessen\n\nSonntag:\n\n 	Frühstück\n 	ggf. 
 mehr (wir müssen erst um 18:00 raus sein)\n 	Abreise\n\n&nbsp\;\n\nFolgen
 de Workshops haben wir geplant:\n\n 	Kreativ-Workshop: Entwicklung eines C
 orporate-Designs für die SHG (u.a. Farbkonzept neue Website\, neues T-Shi
 rt-Designs)\n 	Grundprinzipien der Selbsthilfe: Gemeinsame Erarbeitung von
  Regeln für den Gruppenabend\n\nInformationen zum Haus findet ihr hier.\n
 \nLeitung: Orga-Team der SHG Köln\nAnmeldeschluss: 07. Oktober 2021\nTerm
 in: Freitag\, 22. Oktober 2021 bis Sonntag\, 24. Oktober 2021\nOrt: Gruppe
 nunterkunft Sauerland\, Königstraße 1a\, 59964 Medebach–Dreislar\nKost
 en: Mitglieder: 20€\; ermäßigte Mitglieder: 10€\; Förder- und Nicht
 mitglieder: 40€\nKontakt: info@stottern.koeln
CATEGORIES:In vivo - Mitten im Leben
LOCATION:Gruppenunterkunft Sauerland\, Königstr. 1a\, Medebach-Dreislar\, 
 59964\, Deutschland
GEO:51.1494405;8.6888013
X-APPLE-STRUCTURED-LOCATION;VALUE=URI;X-ADDRESS=Königstr. 1a\, Medebach-Dr
 eislar\, 59964\, Deutschland;X-APPLE-RADIUS=100;X-TITLE=Gruppenunterkunft 
 Sauerland:geo:51.1494405,8.6888013
END:VEVENT
BEGIN:VTIMEZONE
TZID:Europe/Berlin
X-LIC-LOCATION:Europe/Berlin
BEGIN:DAYLIGHT
DTSTART:20210328T030000
TZOFFSETFROM:+0100
TZOFFSETTO:+0200
TZNAME:CEST
END:DAYLIGHT
END:VTIMEZONE
END:VCALENDAR