BEGIN:VCALENDAR
VERSION:2.0
PRODID:-//wp-events-plugin.com//6.4.6.4//EN
TZID:Europe/Berlin
X-WR-TIMEZONE:Europe/Berlin
BEGIN:VEVENT
UID:2612@stottern.koeln
DTSTART;TZID=Europe/Berlin:20190517T000000
DTEND;TZID=Europe/Berlin:20190519T000000
DTSTAMP:20190218T190511Z
URL:https://stottern.koeln/events/leichter-sprechen-und-sich-wohler-fuehle
 n-6/
SUMMARY:Leichter sprechen und sich wohler fühlen
DESCRIPTION:Leichter sprechen und sich wohler fühlen\nNaturmethode-Seminar
  im schönen Sauerland\nUnser traditionelles Seminar im Sauerland findet d
 ieses Jahr erneut in Bestwig statt. In einer traumhaften Umgebung werden w
 ir uns auf die Spuren von Erwin Richter\, Ronald Muirden und Oskar Hausdö
 rfer begeben.\nDas Seminar bietet ein abwechslungsreiches Programm in ents
 pannter Atmosphäre. Wir werden untereinander Erfahrungen austauschen\, pe
 rsönliche Gespräche führen und dabei die klangvolle Stimme und die rich
 tigen Vorstellungen trainieren. Wir wollen durch Aspekte der Naturmethode\
 , Tönen und Hören\, Sprechen in Abschnitten und positives Denken unser S
 elbstvertrauen stärken.\nWohltuende Entspannungsübungen\, interessante G
 esprächskreise und unterhaltsame Sprechspiele ergänzen das Programm. Dur
 ch die Erfahrungen des Seminars werden wir neue Möglichkeiten finden\, un
 ser Leben positiv zu gestalten.\nReferenten: Gabi Schilling\, Ludwig Werle
  u. Johannes Große Ophoff\nTermin/Ort: 17. bis 19. Mai 2019 in Bestwig\nK
 osten: Mitglieder Stotterer-Selbsthilfe Köln e.V.: auf Anfrage\n Mitglied
 er BVSS: ab 70\,- €\; Nicht-Mitglieder: ab 90\,- €\nAnmeldung: Online 
 auf www.bvss.de\nKontakt: Johannes Große Ophoff\, Tel.: 0175 / 8678390\, 
 Mail: j.grosseophoff@t-online.de
ATTACH;FMTTYPE=image/jpeg:https://stottern.koeln/wp-content/uploads/2018/0
 1/BVSS_logo_quadrat.png
LOCATION:Bergkloster Bestwig\, Bergkloster 1\, Bestwig\, 59909\, Deutschlan
 d
GEO:51.36194;8.406399999999962
X-APPLE-STRUCTURED-LOCATION;VALUE=URI;X-ADDRESS=Bergkloster 1\, Bestwig\, 5
 9909\, Deutschland;X-APPLE-RADIUS=100;X-TITLE=Bergkloster Bestwig:geo:51.3
 6194,8.406399999999962
END:VEVENT
BEGIN:VTIMEZONE
TZID:Europe/Berlin
X-LIC-LOCATION:Europe/Berlin
BEGIN:DAYLIGHT
DTSTART:20190331T030000
TZOFFSETFROM:+0100
TZOFFSETTO:+0200
TZNAME:CEST
END:DAYLIGHT
END:VTIMEZONE
END:VCALENDAR