BEGIN:VCALENDAR
VERSION:2.0
PRODID:-//wp-events-plugin.com//6.4.6.4//EN
TZID:Europe/Berlin
X-WR-TIMEZONE:Europe/Berlin
BEGIN:VEVENT
UID:2613@stottern.koeln
DTSTART;TZID=Europe/Berlin:20191115T000000
DTEND;TZID=Europe/Berlin:20191117T000000
DTSTAMP:20190218T194035Z
URL:https://stottern.koeln/events/leichter-sprechen-und-sich-wohler-fuehle
 n-7/
SUMMARY:Leichter sprechen und sich wohler fühlen
DESCRIPTION:Leichter sprechen und sich wohler fühlen\nGroßes Naturmethode
 -Seminar mit schönem Rahmenprogramm\nDieses traditionsreiche Seminar biet
 et ein abwechslungsreiches Programm. Auch ist es eine gute Gelegenheit\, 
 “Freunde zu treffen\, die Du noch gar nicht kennst“. In lockerer Atmos
 phäre und umgeben von netten Leuten kommen wir zur Ruhe\, tauschen Erfahr
 ungen aus\, erhalten neue Impulse und machen und fit für den Alltag. Wir 
 probieren vieles aus\, motivieren uns gegenseitig und sammeln Erfolgserleb
 nisse\, die uns gut tun und Mut machen.\nOft bilden wir Kleingruppen\, so 
 dass Du zwischen drei Angeboten auswählen kannst. Wer seine sprachlichen 
 Fähigkeiten erweitern möchte\, übt das gezielte Reduzieren des Sprechte
 mpos\, den weichen Stimmeinsatz\, cleveres Atmen\, gebundenes Sprechen mit
  schönen Betonungen oder das Sprechen mit lockerer Mundmuskulatur. Wohltu
 ende Entspannungsübungen\, interessante Gesprächskreise\, unterhaltsame 
 Sprechspiele\, die “Offene Bühne“\, gemeinsames Singen und die tradit
 ionelle Party am Samstagabend runden das Programm ab.\nTherapeutInnen\, au
 ch angehende\, sind herzlich willkommen. Kommen Sie mit uns Stotternden in
 s Gespräch und erleben Sie\, was uns gut tut.\nReferenten: Gabi Schilling
 \, Johannes Große Ophoff und Berthold Wauligmann \nTermin/Ort: 15. bis 17
 . November 2019 in Bielefeld\nKosten: Mitglieder Stotterer-Selbsthilfe Kö
 ln e.V.: auf Anfrage\n Mitglieder BVSS: ab 70\,- €\; Nicht-Mitglieder: a
 b 90\,- €\nAnmeldung: Online auf www.bvss.de\nKontakt: Berthold Wauligma
 nn\, Tel.: 02507 / 2851\, Mail: b.wauligmann@gmail.com
ATTACH;FMTTYPE=image/jpeg:https://stottern.koeln/wp-content/uploads/2018/0
 1/BVSS_logo_quadrat.png
LOCATION:Bildungsstätte Einschlingen\, Schlingenstr. 65\, 33649 Bielefeld\
 , Deutschland
GEO:52.0098327;8.480543000000011
X-APPLE-STRUCTURED-LOCATION;VALUE=URI;X-ADDRESS=Schlingenstr. 65\, 33649 Bi
 elefeld\, Deutschland;X-APPLE-RADIUS=100;X-TITLE=Bildungsstätte Einschlin
 gen:geo:52.0098327,8.480543000000011
END:VEVENT
BEGIN:VTIMEZONE
TZID:Europe/Berlin
X-LIC-LOCATION:Europe/Berlin
BEGIN:STANDARD
DTSTART:20191027T020000
TZOFFSETFROM:+0200
TZOFFSETTO:+0100
TZNAME:CET
END:STANDARD
END:VTIMEZONE
END:VCALENDAR