BEGIN:VCALENDAR
VERSION:2.0
PRODID:-//wp-events-plugin.com//6.4.6.4//EN
TZID:Europe/Berlin
X-WR-TIMEZONE:Europe/Berlin
BEGIN:VEVENT
UID:2614@stottern.koeln
DTSTART;TZID=Europe/Berlin:20190822T000000
DTEND;TZID=Europe/Berlin:20190825T000000
DTSTAMP:20190218T194516Z
URL:https://stottern.koeln/events/leichter-sprechen-und-sich-wohler-fuehle
 n-8/
SUMMARY:Leichter sprechen und sich wohler fühlen - Intensivseminar
DESCRIPTION:Leichter sprechen und sich wohler fühlen\nDieses Intensiv-Semi
 nar wendet sich an diejenigen\, die schon an mindestens einem Naturmethode
 -Seminar teilgenommen haben\, und die besonders motiviert sind\, „dieses
  neue Sprechen“ zu vertiefen und in ihren Alltag zu übertragen…\nEine
  Buchung ist leider nur noch auf Warteliste möglich!\nReferent: Berthold 
 Wauligmann\, Havixbeck und andere\nTermin/Ort: 22. August bis 25. August 2
 019 in Bestwig\nKosten: Mitglieder Stotterer-Selbsthilfe Köln e.V.: auf A
 nfrage\n Mitglieder BVSS: ab 100\,- €\; Nicht-Mitglieder: ab 130\,- €\
 nAnmeldung: Online auf www.bvss.de\nKontakt: Berthold Wauligmann\, Tel.: 0
 2507 / 2851\, Mail: b.wauligmann@gmail.com
ATTACH;FMTTYPE=image/jpeg:https://stottern.koeln/wp-content/uploads/2018/0
 1/BVSS_logo_quadrat.png
LOCATION:Bergkloster Bestwig\, Bergkloster 1\, Bestwig\, 59909\, Deutschlan
 d
GEO:51.36194;8.406399999999962
X-APPLE-STRUCTURED-LOCATION;VALUE=URI;X-ADDRESS=Bergkloster 1\, Bestwig\, 5
 9909\, Deutschland;X-APPLE-RADIUS=100;X-TITLE=Bergkloster Bestwig:geo:51.3
 6194,8.406399999999962
END:VEVENT
BEGIN:VTIMEZONE
TZID:Europe/Berlin
X-LIC-LOCATION:Europe/Berlin
BEGIN:DAYLIGHT
DTSTART:20190331T030000
TZOFFSETFROM:+0100
TZOFFSETTO:+0200
TZNAME:CEST
END:DAYLIGHT
END:VTIMEZONE
END:VCALENDAR