BEGIN:VCALENDAR
VERSION:2.0
PRODID:-//wp-events-plugin.com//6.4.6.4//EN
TZID:Europe/Berlin
X-WR-TIMEZONE:Europe/Berlin
BEGIN:VEVENT
UID:2709@stottern.koeln
DTSTART;TZID=Europe/Berlin:20210427T193000
DTEND;TZID=Europe/Berlin:20210427T213000
DTSTAMP:20210419T200128Z
URL:https://stottern.koeln/events/lets-t-t-talk-english-2021a/
SUMMARY:Let’s t..t..talk English
DESCRIPTION:Let’s t..t..talk English\nEnglish classes in school were a ni
 ghtmare for many stutterers. But communicating in a foreign language can a
 lso be challenging and fun. We want to prove this on two special instalmen
 ts of our group meeting.\nIn a relaxed and friendly environment\, we will 
 talk to each other in English\, read aloud\, play some conversation games 
 and the bravest can even give little impromptu speeches. Nobody will expec
 t perfect English grammar or an extensive vocabulary - let's just have fun
 !\n------\nAufgrund der aktuellen Corona-Situation treffen wir uns online.
  Alle Interessierten und Betroffenen sind\, unabhängig von Ihrem Wohnort\
 , herzlich Willkommen! Ihr erreicht unseren virtuellen Gruppenraum über 
 diesen Zoom-Link:\nhttps://online.stottern.koeln\n\nMeeting-ID: 826 6421 1
 517\nKenncode: 834 609\n\nEine Teilnahme ist auf zwei Wege möglich:\n\n1.
  Über den Computer/Laptop: Klickt einfach auf den Link oben. Ihr könnt d
 ann die Zoom-App installieren oder über den Browser teilnehmen.\n\n2. Üb
 er das Smartphone: Ladet euch die mobile App „ZOOM Cloud Meetings“ und
  installiert sie:\n\n\n 	Google PlayStore: https://play.google.com/store/
 apps/details?id=us.zoom.videomeetings\n 	Apple AppStore: https://apps.app
 le.com/de/app/zoom-cloud-meetings/id546505307\n\n\n\n\nKlickt dann auf den
  Link oben und öffnet ihn mit der installierten App.\n\n&nbsp\;\n\nEin Ac
 count wird nicht benötigt. Ihr werdet lediglich nach einem Anzeigenamen u
 nd einer Mailadresse gefragt\, aber diese wird nicht verwendet.\n\nBitte b
 enutzt falls möglich ein Headset oder zumindest Kopfhörer um Probleme du
 rch Rückkopplungen zu vermeiden.\n\nFalls ihr die Audioverbindung aus irg
 endeinem Grund nicht direkt über den Computer bzw. die App herstellen kö
 nnt/wollt\, könnt ihr euch alternativ auch über diesen Direktlink telefo
 nisch einwählen. Alternativ könnt ihr auch manuell die Festnetznummer 06
 9 7104 9922 anrufen und die o.g. Meeting-ID und den Kenncode eingeben.\n\n
 \n\nBei Fragen und Anregungen könnt ihr euch gerne jederzeit melden.\n
CATEGORIES:Themenabend
END:VEVENT
BEGIN:VTIMEZONE
TZID:Europe/Berlin
X-LIC-LOCATION:Europe/Berlin
BEGIN:DAYLIGHT
DTSTART:20210328T030000
TZOFFSETFROM:+0100
TZOFFSETTO:+0200
TZNAME:CEST
END:DAYLIGHT
END:VTIMEZONE
END:VCALENDAR