BEGIN:VCALENDAR
VERSION:2.0
PRODID:-//wp-events-plugin.com//6.4.6.4//EN
TZID:Europe/Berlin
X-WR-TIMEZONE:Europe/Berlin
BEGIN:VEVENT
UID:2619@stottern.koeln
DTSTART;TZID=Europe/Berlin:20190628T150000
DTEND;TZID=Europe/Berlin:20190628T163000
DTSTAMP:20190430T113540Z
URL:https://stottern.koeln/events/logopaedieschueler2019/
SUMMARY:Besuch bei Logopädieschülern
DESCRIPTION:Besuch bei Logopädieschülern\nAuch in diesem Jahr freuen wir 
 uns wieder auf unseren Besuch in der Medizinischen Akademie für Logopädi
 e Köln. Diese Zusammentreffen bieten allen Beteiligten die Möglichkeit\,
  Informationen auszutauschen und sich sprachlichen Herausforderungen zu st
 ellen. Wir möchten die angehenden Logopäden aus erster Hand über Stotte
 rn und die positiven Effekte der Selbsthilfe auf den Einzelnen auch währe
 nd und nach einer logopädischen Behandlung informieren.\nWenn ihr uns unt
 erstützen und euch dieser sprachlichen Herausforderungen stellen möchtet
 \, meldet euch bei uns unter info@stottern.koeln .
CATEGORIES:Öffentlichkeitsarbeit
LOCATION:IB-GiS mbH Medizinische Akademie Köln\, Schönhauser Str. 64\, 50
 968 Köln\, Deutschland
GEO:50.9120713;6.964416300000039
X-APPLE-STRUCTURED-LOCATION;VALUE=URI;X-ADDRESS=Schönhauser Str. 64\, 5096
 8 Köln\, Deutschland;X-APPLE-RADIUS=100;X-TITLE=IB-GiS mbH Medizinische A
 kademie Köln:geo:50.9120713,6.964416300000039
END:VEVENT
BEGIN:VTIMEZONE
TZID:Europe/Berlin
X-LIC-LOCATION:Europe/Berlin
BEGIN:DAYLIGHT
DTSTART:20190331T030000
TZOFFSETFROM:+0100
TZOFFSETTO:+0200
TZNAME:CEST
END:DAYLIGHT
END:VTIMEZONE
END:VCALENDAR