BEGIN:VCALENDAR
VERSION:2.0
PRODID:-//wp-events-plugin.com//6.4.6.4//EN
TZID:Europe/Berlin
X-WR-TIMEZONE:Europe/Berlin
BEGIN:VEVENT
UID:2604@stottern.koeln
DTSTART;TZID=Europe/Berlin:20190409T193000
DTEND;TZID=Europe/Berlin:20190409T213000
DTSTAMP:20190217T215254Z
URL:https://stottern.koeln/events/mitgliederversammlung2019/
SUMMARY:Mitgliederversammlung
DESCRIPTION:Einladung zur Mitgliederversammlung 2019\nLiebe Mitglieder\,\nw
 ir laden euch herzlich zur Mitgliederversammlung der Stotterer-Selbsthilfe
  Köln e.V. ein. Sie findet statt am Dienstag\, den 09.04.2019 um 19.30 Uh
 r im Doris-Roper-Haus\, Kreutzerstr. 5-9\, 50672 Köln.\nDie schriftliche 
 Einladung mit den geplanten Tagesordnungspunkten wird euch vorab frist- un
 d satzungsgemäß zugesendet .\nWir bitten euch persönlich an der Mitglie
 derversammlung teilzunehmen\, da ihr nur so an den Entscheidungen mitwirke
 n könnt.\nEuer Vorstand\nAndreas\, Christian\, Hubertus und Jochen\n
CATEGORIES:Mitgliederversammlung
LOCATION:Doris-Roper-Haus\, Kreutzerstr. 5-9\, 50672 Köln\, Deutschland
GEO:50.9432256;6.9284873999999945
X-APPLE-STRUCTURED-LOCATION;VALUE=URI;X-ADDRESS=Kreutzerstr. 5-9\, 50672 K
 öln\, Deutschland;X-APPLE-RADIUS=100;X-TITLE=Doris-Roper-Haus:geo:50.9432
 256,6.9284873999999945
END:VEVENT
BEGIN:VTIMEZONE
TZID:Europe/Berlin
X-LIC-LOCATION:Europe/Berlin
BEGIN:DAYLIGHT
DTSTART:20190331T030000
TZOFFSETFROM:+0100
TZOFFSETTO:+0200
TZNAME:CEST
END:DAYLIGHT
END:VTIMEZONE
END:VCALENDAR