BEGIN:VCALENDAR
VERSION:2.0
PRODID:-//wp-events-plugin.com//6.4.6.4//EN
TZID:Europe/Berlin
X-WR-TIMEZONE:Europe/Berlin
BEGIN:VEVENT
UID:2714@stottern.koeln
DTSTART;TZID=Europe/Berlin:20211214T193000
DTEND;TZID=Europe/Berlin:20211214T213000
DTSTAMP:20211126T205956Z
URL:https://stottern.koeln/events/mitsingding-mit-tresor/
SUMMARY:Mitsingding mit Tresor - entfällt
DESCRIPTION:Mitsingding mit Tresor\n\nLeider müssen wir das Mitsingding au
 ch im zweiten Anlauf Corona-bedingt absagen. Wir hoffen\, dass es im näch
 sten Jahr endlich klappt.\n\nWir freuen uns auf einen musikalischen Gruppe
 nabend\, an dem zur Jahreszeit passend weihnachtliche Stücke ihren Platz 
 finden. Wir möchten uns im trubeligen Dezember gemeinsam mit euch eine kl
 eine Auszeit nehmen\, um uns auf diese besinnliche Zeit einzustimmen bzw. 
 -singen.\n\nViele von uns haben beim Singen keine Stottergefühle und Musi
 zieren macht dazu auch noch glücklich. Also kommt vorbei und lasst euch a
 uf diesen tollen Gruppenabend mit Tresor ein\, der uns an seiner Gitarre d
 urch den Abend führt.\n\nFür alle\, die Tresor noch nicht kennen hier ei
 n paar Worte von ihm:\n\n„Ich bin Tresor\, 28 Jahre und wohne in Wuppert
 al. Ich bin immer wieder begeistert vom Engagement und dem vielfältigen A
 ngebot der SHG Köln und bin seit April 2016 Mitglied der Gruppe. Ungefäh
 r zur selben Zeit habe ich angefangen\, Gitarre zu spielen. Mit den eigene
 n Händen Musik zu machen\, hat mir eine ganz neue Dimension geschenkt und
  mich persönlich sehr bereichert. Deshalb freue ich mich diese Begeisteru
 ng für die Musik mit anderen zu teilen.“\n\n&nbsp\;\n\nTermin: Dienstag
 \, 14. Dezember 2021 von 19:30 bis 21:30 Uhr\n\nOrt:  Doris-Roper-Haus\, K
 reutzerstr. 5-9\, 50672 Köln
CATEGORIES:Gruppenabend,Themenabend
LOCATION:Doris-Roper-Haus\, Kreutzerstr. 5-9\, 50672 Köln\, Deutschland
GEO:50.9432256;6.9284873999999945
X-APPLE-STRUCTURED-LOCATION;VALUE=URI;X-ADDRESS=Kreutzerstr. 5-9\, 50672 K
 öln\, Deutschland;X-APPLE-RADIUS=100;X-TITLE=Doris-Roper-Haus:geo:50.9432
 256,6.9284873999999945
END:VEVENT
BEGIN:VTIMEZONE
TZID:Europe/Berlin
X-LIC-LOCATION:Europe/Berlin
BEGIN:STANDARD
DTSTART:20211031T020000
TZOFFSETFROM:+0200
TZOFFSETTO:+0100
TZNAME:CET
END:STANDARD
END:VTIMEZONE
END:VCALENDAR