BEGIN:VCALENDAR
VERSION:2.0
PRODID:-//wp-events-plugin.com//6.4.6.4//EN
TZID:Europe/Berlin
X-WR-TIMEZONE:Europe/Berlin
BEGIN:VEVENT
UID:2719@stottern.koeln
DTSTART;TZID=Europe/Berlin:20211113T100000
DTEND;TZID=Europe/Berlin:20211113T163000
DTSTAMP:20211012T212949Z
URL:https://stottern.koeln/events/natuerlich-sprechen-frei-vom-stottern/
SUMMARY:Natürlich Sprechen\, FREI vom Stottern
DESCRIPTION:Natürlich Sprechen\, FREI vom Stottern\nVorbemerkung: Es hande
 lt sich bei dem Text um eine Ankündigung des Referenten (Herr Heuvel). Di
 e darin enthaltenen Meinungsäußerungen entsprechen dabei nicht notwendig
 erweise der Meinung des Vereins bzw. seiner Mitglieder.\nSchon viele Jahrh
 underte wird das Stottern erforscht\, ohne aber einer Lösung näher zu ko
 mmen. Wenn man sich viel Mühe gibt und trotzdem keine Lösung findet\, sp
 richt man von einem komplizierten Problem und es wird eine Wissenschaft da
 raus gemacht. Aber... ist es auch wirklich so kompliziert? Vielleicht lieg
 t die Lösung ganz nahe. So nahe\, dass wir alle darüber hinweg geschaut 
 haben!\nUm herauszufinden warum jemand stottert\, wird immer darauf abgest
 ellt\, in was sich jemand der stottert unterscheidet von jemandem der nich
 t stottert. Wenn aber schon im Ansatz ein kardinaler Denkfehler gemacht wi
 rd\, ist alles was danach kommt auf Treibsand aufgebaut und somit wird jed
 er\, der sich hiermit befasst\, auf einen Holzweg geführt. Eine Lösung w
 ird so nicht gefunden und deshalb konnten wir uns bis heute fast unmöglic
 h vom Stottern befreien.\nIn diesen Arbeitskreis verlassen wir den traditi
 onellen Denkrahmen um völlig neue Wege zu begehen. Wir gehen nicht mehr d
 avon aus\, worin sich jemand der stottert unterscheidet von jemand der nic
 ht stottert\, sondern worin jemand der stottert sich von sich selbst unter
 scheidet\, im Moment in dem er stottert zu dem Moment des natürlichen Spr
 echens. Wir kennen ja alle Situationen in welchen wir - ohne jegliche Anst
 rengung - natürlich sprechen. Wir wissen auch\, dass wir beim Singen (in 
 der Regel) nicht stottern. Wir arbeiten dann nicht mehr am Sprechen selbst
 \, sondern an der Gefühlslage die wir beim Sprechen erfahren (wollen). Di
 e natürliche Sprache ist dann die ganz natürliche Folge.\nIch möchte eu
 ch in diesem Arbeitskreis mitnehmen auf den Weg\, den ich selbst gegangen 
 bin und auf dem ich seit 35 Jahren schon vielen Personen die stottern in a
 llen Altersgruppen geholfen habe\, sich vom Stottern zu befreien. Dieser A
 rbeitskreis eignet sich auch für Eltern von sehr jungen\, stotternden Kin
 dern. Im Alter bis 7 Jahre können nämlich die Eltern am besten selbst di
 e natürliche Sprache schnell und erfolgreich wiederherstellen\, wodurch s
 owohl dem Kind\, als auch den Eltern ein langer Weg von Therapieerfahrunge
 n erspart bleibt.\nJan Heuvel - www.vrijvanstotteren.nl
ATTACH;FMTTYPE=image/jpeg:https://stottern.koeln/wp-content/uploads/2021/0
 4/JanHeuvel.jpg
CATEGORIES:Workshop
LOCATION:Doris-Roper-Haus\, Kreutzerstr. 5-9\, 50672 Köln\, Deutschland
GEO:50.9432256;6.9284873999999945
X-APPLE-STRUCTURED-LOCATION;VALUE=URI;X-ADDRESS=Kreutzerstr. 5-9\, 50672 K
 öln\, Deutschland;X-APPLE-RADIUS=100;X-TITLE=Doris-Roper-Haus:geo:50.9432
 256,6.9284873999999945
END:VEVENT
BEGIN:VTIMEZONE
TZID:Europe/Berlin
X-LIC-LOCATION:Europe/Berlin
BEGIN:STANDARD
DTSTART:20211031T020000
TZOFFSETFROM:+0200
TZOFFSETTO:+0100
TZNAME:CET
END:STANDARD
END:VTIMEZONE
END:VCALENDAR