BEGIN:VCALENDAR
VERSION:2.0
PRODID:-//wp-events-plugin.com//6.4.6.4//EN
TZID:Europe/Berlin
X-WR-TIMEZONE:Europe/Berlin
BEGIN:VEVENT
UID:2720@stottern.koeln
DTSTART;TZID=Europe/Berlin:20210511T193000
DTEND;TZID=Europe/Berlin:20210511T213000
DTSTAMP:20210419T201226Z
URL:https://stottern.koeln/events/online-gruppenabend-11/
SUMMARY:Online Gruppenabend
DESCRIPTION:Online-Gruppenabend\nDer Gruppenabend ist das wichtigste Elemen
 t unserer Selbsthilfearbeit. Jede Woche kommt hier eine bunt gemischte Gru
 ppe jeden Alters zusammen um über das Stottern und die Erfahrungen damit 
 zu sprechen oder Situationen und Sprechtechniken zu üben.\n\nAm Anfang de
 s Gruppenabends steht das „Blitzlicht“\, bei dem jeder die Möglichkei
 t hat\, sich vorzustellen und zu erzählen\, wie es ihm momentan geht. Dad
 urch gibt es einen leichteren Einstieg in den Abend. Natürlich ist eine B
 eteiligung am Blitzlicht kein Muss. Wer zu große Angst hat\, kann auch ge
 rne nur zuhören.\n\nAußerdem kann jeder beim Blitzlicht Themen vorschlag
 en\, die einen gerade bewegen oder worüber man einfach so mal gerne reden
  würde. An bestimmten Abenden ist schon ein Thema aus unserem Jahresprogr
 amm vorgegeben.\n\nDer Gruppenabend lebt jedoch von seinen Teilnehmern. Es
  gibt bei uns keinen festen Leiter\, so dass jeder den Abend selbst mitges
 talten kann. Wer z.B. Vorträge üben möchte\, sollte dies ebenso sagen w
 ie jemand\, der über das Thema Angst sprechen möchte.\n\nNeue Gesichter 
 jeden Alters sind bei uns natürlich immer willkommen. Sie bringen „fris
 chen Wind“ und oft auch neue Themen in unsere Gruppe herein. Wir sind na
 türlich auch für Nicht-Stotternde offen. Egal ob Freunde\, Partner\, Spr
 achheilpädagogik-Studenten\, Logopädenschüler – jeder ist bei uns ger
 ne gesehen.\n\n&nbsp\;\n\nAufgrund der aktuellen Corona-Situation treffen 
 wir uns online. Alle Interessierten und Betroffenen sind\, unabhängig von
  Ihrem Wohnort\, herzlich Willkommen! Ihr erreicht unseren virtuellen Gru
 ppenraum über diesen Zoom-Link:\nhttps://online.stottern.koeln\n\nMeeting
 -ID: 826 6421 1517\nKenncode: 834 609\n\nEine Teilnahme ist auf zwei Wege 
 möglich:\n\n1. Über den Computer/Laptop: Klickt einfach auf den Link obe
 n. Ihr könnt dann die Zoom-App installieren oder über den Browser teilne
 hmen.\n\n2. Über das Smartphone: Ladet euch die mobile App "ZOOM Cloud Me
 etings" und installiert sie:\n\n\n 	Google PlayStore: https://play.google
 .com/store/apps/details?id=us.zoom.videomeetings\n 	Apple AppStore: https
 ://apps.apple.com/de/app/zoom-cloud-meetings/id546505307\n\n\n\n\nKlickt d
 ann auf den Link oben und öffnet ihn mit der installierten App.\n\n&nbsp\
 ;\n\nEin Account wird nicht benötigt. Ihr werdet lediglich nach einem Anz
 eigenamen und einer Mailadresse gefragt\, aber diese wird nicht verwendet.
 \n\nBitte benutzt falls möglich ein Headset oder zumindest Kopfhörer um 
 Probleme durch Rückkopplungen zu vermeiden.\n\nFalls ihr die Audioverbind
 ung aus irgendeinem Grund nicht direkt über den Computer bzw. die App her
 stellen könnt/wollt\, könnt ihr euch alternativ auch über diesen Direkt
 link telefonisch einwählen. Alternativ könnt ihr auch manuell die Festne
 tznummer 069 7104 9922 anrufen und die o.g. Meeting-ID und den Kenncode ei
 ngeben.\n\n\n\nBei Fragen und Anregungen könnt ihr euch gerne jederzeit m
 elden.\n
ATTACH;FMTTYPE=image/jpeg:https://stottern.koeln/wp-content/uploads/2016/0
 2/gruppenabendneu.jpg
CATEGORIES:Gruppenabend
END:VEVENT
BEGIN:VTIMEZONE
TZID:Europe/Berlin
X-LIC-LOCATION:Europe/Berlin
BEGIN:DAYLIGHT
DTSTART:20210328T030000
TZOFFSETFROM:+0100
TZOFFSETTO:+0200
TZNAME:CEST
END:DAYLIGHT
END:VTIMEZONE
END:VCALENDAR