BEGIN:VCALENDAR
VERSION:2.0
PRODID:-//wp-events-plugin.com//6.4.6.4//EN
TZID:Europe/Berlin
X-WR-TIMEZONE:Europe/Berlin
BEGIN:VEVENT
UID:2725@stottern.koeln
DTSTART;TZID=Europe/Berlin:20210608T193000
DTEND;TZID=Europe/Berlin:20210608T213000
DTSTAMP:20210607T212822Z
URL:https://stottern.koeln/events/online-gruppenabend-13/
SUMMARY:Online-Infoveranstaltung des Vorstands
DESCRIPTION:Online-Infoveranstaltung des Vorstands\nDer Gruppenabend ist da
 s wichtigste Element unserer Selbsthilfearbeit. Jede Woche kommt hier eine
  bunt gemischte Gruppe jeden Alters zusammen um über das Stottern und die
  Erfahrungen damit zu sprechen oder Situationen und Sprechtechniken zu üb
 en.\n\nAm Anfang des Gruppenabends steht das „Blitzlicht“\, bei dem je
 der die Möglichkeit hat\, sich vorzustellen und zu erzählen\, wie es ihm
  momentan geht. Dadurch gibt es einen leichteren Einstieg in den Abend. Na
 türlich ist eine Beteiligung am Blitzlicht kein Muss. Wer zu große Angst
  hat\, kann auch gerne nur zuhören.\n\nDiesen Abend möchten wir (Vorstan
 d) nutzen um über die Belange des Vereins zu sprechen:\n\nAgenda:\n\n 	Be
 richt des Vorstandes\n 	Aktuelle Projekte\n 	Ausblick Vorstandswahlen 2021
 \n 	Ausblick Restprogramm 2021\n 	Eure Wünsche / Ideen\n 	Verschiedenes\n
 \nAufgrund der aktuellen Corona-Situation treffen wir uns online. Alle Int
 eressierten und Betroffenen sind\, unabhängig von Ihrem Wohnort\, herzlic
 h Willkommen!&nbsp\;Ihr erreicht unseren virtuellen Gruppenraum über dies
 en Zoom-Link:\nhttps://online.stottern.koeln\n&nbsp\;\nMeeting-ID: 826 642
 1 1517\nKenncode: 834 609\n&nbsp\;\nEine Teilnahme ist auf zwei Wege mögl
 ich:\n&nbsp\;\n1. Über den Computer/Laptop: Klickt einfach auf den Link o
 ben. Ihr könnt dann die Zoom-App installieren oder über den Browser teil
 nehmen.\n&nbsp\;\n2. Über das Smartphone: Ladet euch die mobile App "ZOOM
  Cloud Meetings" und installiert sie:\n\n\n 	Google PlayStore:&nbsp\;https
 ://play.google.com/store/apps/details?id=us.zoom.videomeetings\n 	Apple Ap
 pStore:&nbsp\;https://apps.apple.com/de/app/zoom-cloud-meetings/id54650530
 7\n\n\n\n\nKlickt dann auf den Link oben und öffnet ihn mit der installie
 rten App.\n\n&nbsp\;\n\nEin Account wird nicht benötigt. Ihr werdet ledig
 lich nach einem Anzeigenamen und einer Mailadresse gefragt\, aber diese wi
 rd nicht verwendet.\n\nBitte benutzt falls möglich ein Headset oder zumin
 dest Kopfhörer um Probleme durch Rückkopplungen zu vermeiden.\n\nFalls i
 hr die Audioverbindung aus irgendeinem Grund nicht direkt über den Comput
 er bzw. die App herstellen könnt/wollt\, könnt ihr euch alternativ auch 
 über diesen Direktlink telefonisch einwählen. Alternativ könnt ihr auch
  manuell die Festnetznummer 069 7104 9922 anrufen und die o.g. Meeting-ID 
 und den Kenncode eingeben.\n\n\n\nBei Fragen und Anregungen könnt ihr euc
 h gerne jederzeit melden.\n
ATTACH;FMTTYPE=image/jpeg:https://stottern.koeln/wp-content/uploads/2016/0
 2/gruppenabendneu.jpg
CATEGORIES:Gruppenabend
END:VEVENT
BEGIN:VTIMEZONE
TZID:Europe/Berlin
X-LIC-LOCATION:Europe/Berlin
BEGIN:DAYLIGHT
DTSTART:20210328T030000
TZOFFSETFROM:+0100
TZOFFSETTO:+0200
TZNAME:CEST
END:DAYLIGHT
END:VTIMEZONE
END:VCALENDAR