BEGIN:VCALENDAR
VERSION:2.0
PRODID:-//wp-events-plugin.com//6.4.6.4//EN
TZID:Europe/Berlin
X-WR-TIMEZONE:Europe/Berlin
BEGIN:VEVENT
UID:2856@stottern.koeln
DTSTART;TZID=Europe/Berlin:20260627T160000
DTEND;TZID=Europe/Berlin:20260627T210000
DTSTAMP:20260401T200603Z
URL:https://stottern.koeln/events/sommerfest-mit-tag-der-offenen-tuer-2026
 /
SUMMARY:Sommerfest mit Tag der offenen Tür
DESCRIPTION:Sommerfest mit Tag der offenen Tür\nBei hoffentlich wieder sch
 önem Wetter möchten wir unser diesjähriges Sommerfest mit einem Tag der
  offenen Tür feiern. Eingeladen sind alle Menschen\, die vom Stottern bet
 roffen oder am Thema Stottern interessiert sind.\n\nIn gemütlicher und lo
 ckerer Atmosphäre könnt ihr uns außerhalb des Gruppenabends kennenlerne
 n. Wir stehen euch für Gespräche zur Verfügung. Stotternde Menschen und
  ihre Angehörigen und Freunde werden in allen Fragen des Stotterns berate
 n\, indem wir Informationen über das Stottern und mögliche Therapieangeb
 ote geben. Neben umfangreichem Informationsmaterial präsentieren wir auch
  Videos zum Thema Stottern.\n\nFür Essen und Trinken ist gesorgt. Wir wer
 den wie im Vorjahr im schönen Innenhof des Quäker-Nachbarschaftsheims gr
 illen. Alle Mitglieder\, Interessierte\, Angehörige usw. sind herzlich ei
 ngeladen. Wir freuen uns auf euren Besuch!\n\nTermin: Samstag\, 27. Juni 2
 026 ab 16:00 Uhr\, Ende offen\nOrt: Doris-Roper-Haus\, Kreutzerstr. 5-9\, 
 50672 Köln\nKontakt: info@stottern.koeln\nAnmeldung: stottern.koeln
CATEGORIES:In vivo - Mitten im Leben,Öffentlichkeitsarbeit
LOCATION:Doris-Roper-Haus\, Kreutzerstr. 5-9\, 50672 Köln\, Deutschland
GEO:50.9432256;6.9284873999999945
X-APPLE-STRUCTURED-LOCATION;VALUE=URI;X-ADDRESS=Kreutzerstr. 5-9\, 50672 K
 öln\, Deutschland;X-APPLE-RADIUS=100;X-TITLE=Doris-Roper-Haus:geo:50.9432
 256,6.9284873999999945
END:VEVENT
BEGIN:VTIMEZONE
TZID:Europe/Berlin
X-LIC-LOCATION:Europe/Berlin
BEGIN:DAYLIGHT
DTSTART:20260329T030000
TZOFFSETFROM:+0100
TZOFFSETTO:+0200
TZNAME:CEST
END:DAYLIGHT
END:VTIMEZONE
END:VCALENDAR