BEGIN:VCALENDAR
VERSION:2.0
PRODID:-//wp-events-plugin.com//6.4.6.4//EN
TZID:Europe/Berlin
X-WR-TIMEZONE:Europe/Berlin
BEGIN:VEVENT
UID:2723@stottern.koeln
DTSTART;TZID=Europe/Berlin:20210703T160000
DTEND;TZID=Europe/Berlin:20210703T235900
DTSTAMP:20210620T195302Z
URL:https://stottern.koeln/events/sommerfest2021/
SUMMARY:Sommerfest mit Tag der offenen Tür
DESCRIPTION:Sommerfest mit Tag der offenen Tür\nBei hoffentlich wieder sch
 önem Wetter möchten wir unser diesjähriges Sommerfest mit einem Tag der
  offenen Tür feiern. Eingeladen sind alle Menschen\, die vom Stottern bet
 roffen oder am Thema Stottern interessiert sind.\n Zu beachten ist:\n (1) 
 Jeder Teilnehmer\, der nicht doppelt geimpft bzw. genesen ist\, muss einen
  negativen\, maximal 48 Stunden alten Corona-Test vorweisen können.\n (2)
  Wir müssen eine Teilnehmerliste aus Gründen der Kontaktnachverfolgung f
 ühren.\nIn gemütlicher und lockere Atmosphäre könnt ihr uns außerhalb
  des Gruppenabends kennen lernen. Wir stehen euch für Beratung und Gespr
 äche zur Verfügung. Stotternde Menschen und ihre Angehörigen und Freund
 e werden in allen Fragen des Stotterns beraten\, indem wir Informationen 
 über das Stottern und mögliche Therapieangebote geben. Neben umfangreich
 em Informationsmaterial präsentieren wir auch Videos zum Thema Stottern.\
 nFür Essen und Trinken ist gesorgt. Wir werden wie im Vorjahr im schönen
  Innenhof des Quäker-Nachbarschaftsheims grillen. Alle Mitglieder\, Inter
 essierte\, Angehörige usw. sind herzlich eingeladen.\nWir freuen uns auf 
 euren Besuch!\nTermin: Samstag\, 3. Juli 2021 ab 16:00 Uhr\, Ende offen
CATEGORIES:In vivo - Mitten im Leben
LOCATION:Doris-Roper-Haus\, Kreutzerstr. 5-9\, 50672 Köln\, Deutschland
GEO:50.9432256;6.9284873999999945
X-APPLE-STRUCTURED-LOCATION;VALUE=URI;X-ADDRESS=Kreutzerstr. 5-9\, 50672 K
 öln\, Deutschland;X-APPLE-RADIUS=100;X-TITLE=Doris-Roper-Haus:geo:50.9432
 256,6.9284873999999945
END:VEVENT
BEGIN:VTIMEZONE
TZID:Europe/Berlin
X-LIC-LOCATION:Europe/Berlin
BEGIN:DAYLIGHT
DTSTART:20210328T030000
TZOFFSETFROM:+0100
TZOFFSETTO:+0200
TZNAME:CEST
END:DAYLIGHT
END:VTIMEZONE
END:VCALENDAR