BEGIN:VCALENDAR
VERSION:2.0
PRODID:-//wp-events-plugin.com//6.4.6.4//EN
TZID:Europe/Berlin
X-WR-TIMEZONE:Europe/Berlin
BEGIN:VEVENT
UID:2602@stottern.koeln
DTSTART;TZID=Europe/Berlin:20190330T100000
DTEND;TZID=Europe/Berlin:20190330T170000
DTSTAMP:20190321T121348Z
URL:https://stottern.koeln/events/speak-up-dein-mutbooster/
SUMMARY:Speak Up! Dein Mutbooster
DESCRIPTION:Speak Up! Dein Mutbooster\n„Mutiges Leben heißt aus vollem H
 erzen zu leben\, bereit zu sein in die Arena des Lebens zu gehen mit offen
 em Visier\, ohne Maske. Bereit zu sein hinzufallen und sich erlauben wiede
 r aufzustehen und nochmal zu gehen. Und sich als Mensch wirklich zu zeigen
  so wie wir sind. Mit dem was gut ist\, mit dem was noch nicht so gut ist.
  Aber auch mit unseren Talenten und Stärken.“ - Brené Brown\nStottern 
 ist für die meisten Betroffenen viel mehr als nur ein Problem des Spreche
 ns! Man kann Stottern mit einem Eisberg vergleichen. Auch beim Stottern ma
 cht der nicht sichtbare Teil den oft größeren Teil der Gesamtproblematik
  aus. Unter der Oberfläche spielen Angst\, Wut und Scham eine große Roll
 e.\nIn diesem Workshop zeige ich euch Methoden und Übungen\, die euch dab
 ei unterstützen Sichtweisen zu ändern\, Glaubenssätze zu hinterfragen\,
  um so mutiger und selbstbewusster zu werden. Mut kann wie ein Muskel gest
 ärkt werden. In entspannter Atmosphäre arbeiten wir sowohl im Plenum als
  auch in Kleingruppen. \nKontakt: Christoph Steuter\, Mail: info@stottern.
 koeln
CATEGORIES:Workshop
LOCATION:Doris-Roper-Haus\, Kreutzerstr. 5-9\, 50672 Köln\, Deutschland
GEO:50.9432256;6.9284873999999945
X-APPLE-STRUCTURED-LOCATION;VALUE=URI;X-ADDRESS=Kreutzerstr. 5-9\, 50672 K
 öln\, Deutschland;X-APPLE-RADIUS=100;X-TITLE=Doris-Roper-Haus:geo:50.9432
 256,6.9284873999999945
END:VEVENT
BEGIN:VTIMEZONE
TZID:Europe/Berlin
X-LIC-LOCATION:Europe/Berlin
BEGIN:STANDARD
DTSTART:20181028T020000
TZOFFSETFROM:+0200
TZOFFSETTO:+0100
TZNAME:CET
END:STANDARD
END:VTIMEZONE
END:VCALENDAR