BEGIN:VCALENDAR
VERSION:2.0
PRODID:-//wp-events-plugin.com//6.4.6.4//EN
TZID:Europe/Berlin
X-WR-TIMEZONE:Europe/Berlin
BEGIN:VEVENT
UID:2611@stottern.koeln
DTSTART;TZID=Europe/Berlin:20190412T000000
DTEND;TZID=Europe/Berlin:20190414T000000
DTSTAMP:20190218T004312Z
URL:https://stottern.koeln/events/stottern-und-beruf/
SUMMARY:Stottern und Beruf
DESCRIPTION:Stottern und Beruf\nEin Qualifizierungs- und Austauschtreffen f
 ür Multiplikatoren in der lokalen Selbsthilfe\nUm die Multiplikatoren in 
 ihrer ehrenamtlichen Tätigkeit zu unterstützen und zu stärken\, ist der
  regelmäßige Austausch mit den anderen Engagierten ebenso wichtig wie di
 e regelmäßige Auffrischung und Vertiefung bisher erworbener Fähigkeiten
  und Kompetenzen. Das diesjährige Qualifizierungs- und Austauschtreffen z
 ielt auf eben dieses Thema ab. Ein Schwerpunkt soll auf der Verknüpfung d
 er beiden Tätigkeitsbereiche „Unterstützung Betroffener“ und „Aufk
 lärung von Arbeitgebern“ gelegt werden. Hierzu werden sich die Teilnehm
 er mit verschiedenen Möglichkeiten und Formaten näher auseinandersetzen 
 und bis dahin erprobte Aktionen in der gemeinsamen Runde bewerten und anal
 ysieren. Denkbar sind zum Beispiel Formate wie ein Aktionstag zum Thema Be
 werbungstraining mit Unternehmen oder der Besuch von Berufsmessen mit Mitg
 liedern aus Stotterer-Selbsthilfegruppen als „invivo“ – Übung.\nFü
 r die Moderation des Wochenendes ist einer der ehrenamtlichen Multiplikato
 ren vorgesehen\, der durch sein Engagement in der Selbsthilfe bzw. speziel
 l im Bereich Stottern und Beruf mit den bereits bestehenden Strukturen der
  Selbsthilfearbeit vertraut ist.\nReferenten: Udo Stier\, Münster\nTermin
 /Ort: 12. bis 14. April 2019 in Münster\nKosten: Mitglieder Stotterer-Sel
 bsthilfe Köln e.V.: auf Anfrage\n Mitglieder BVSS: ab 70\,- €\; Nicht-M
 itglieder: ab 100\,- €\nAnmeldung: Online auf www.bvss.de\nKontakt: Udo 
 Stier\, Tel.: 0251 / 87149773\, Mail: udo.stier@web.de
ATTACH;FMTTYPE=image/jpeg:https://stottern.koeln/wp-content/uploads/2018/0
 1/BVSS_logo_quadrat.png
LOCATION:Jugendgästehaus Aasee\, Bismarckallee 31\, Münster\, 48151\, Deu
 tschland
GEO:51.95381;7.613749999999982
X-APPLE-STRUCTURED-LOCATION;VALUE=URI;X-ADDRESS=Bismarckallee 31\, Münster
 \, 48151\, Deutschland;X-APPLE-RADIUS=100;X-TITLE=Jugendgästehaus Aasee:g
 eo:51.95381,7.613749999999982
END:VEVENT
BEGIN:VTIMEZONE
TZID:Europe/Berlin
X-LIC-LOCATION:Europe/Berlin
BEGIN:DAYLIGHT
DTSTART:20190331T030000
TZOFFSETFROM:+0100
TZOFFSETTO:+0200
TZNAME:CEST
END:DAYLIGHT
END:VTIMEZONE
END:VCALENDAR