BEGIN:VCALENDAR
VERSION:2.0
PRODID:-//wp-events-plugin.com//6.4.6.4//EN
TZID:Europe/Berlin
X-WR-TIMEZONE:Europe/Berlin
BEGIN:VEVENT
UID:2712@stottern.koeln
DTSTART;TZID=Europe/Berlin:20211116T193000
DTEND;TZID=Europe/Berlin:20211116T213000
DTSTAMP:20210319T000409Z
URL:https://stottern.koeln/events/telefontraining-2021b/
SUMMARY:Telefontraining
DESCRIPTION:Telefontraining\nIn diesem Jahr möchte ich euch zwei spezifisc
 he Gruppenabende mit dem Schwerpunkt „Telefontraining“ anbieten. Im Al
 ltag stellt ein Telefo­nat den Stotternden schon mal vor eine große Hera
 usforderung. Ich möchte euch an den Abenden zeigen\, wie man aus solchen 
 Situationen mit einem positiven Gefühl herausgehen kann.\nUnser Ziel ist 
 es\, durch die gesammelten Erfolge unser Selbstbewusstsein zu stärken und
  die Sprechfreude am Telefon wiederzuentdecken!\nIhr werdet feststellen\, 
 dass ihr von Herausforderung zu Herausforderung routinierter werdet und di
 e Angst vor Telefonaten zunehmend schwindet.\nSchaut doch vorbei und telef
 oniert gleich mit!\nAngebotene Übungen:\n\n\n 	Telefongespräche innerhal
 b der Gruppe\n 	Besprechen eines Anrufbeantworters bzw. einer Mailbox\n 	O
 ffizielle Telefonate führen (z. B. Auskünfte einholen\, etwas reklamiere
 n etc…)\n\nMögliche Kontrollen:\n\n\n 	Aufnahme mit dem Diktiergerät\n
  	Besprechung der Telefonate / Analyse des Aufgezeichneten\n\n
CATEGORIES:Themenabend
LOCATION:Doris-Roper-Haus\, Kreutzerstr. 5-9\, 50672 Köln\, Deutschland
GEO:50.9432256;6.9284873999999945
X-APPLE-STRUCTURED-LOCATION;VALUE=URI;X-ADDRESS=Kreutzerstr. 5-9\, 50672 K
 öln\, Deutschland;X-APPLE-RADIUS=100;X-TITLE=Doris-Roper-Haus:geo:50.9432
 256,6.9284873999999945
END:VEVENT
BEGIN:VTIMEZONE
TZID:Europe/Berlin
X-LIC-LOCATION:Europe/Berlin
BEGIN:STANDARD
DTSTART:20211031T020000
TZOFFSETFROM:+0200
TZOFFSETTO:+0100
TZNAME:CET
END:STANDARD
END:VTIMEZONE
END:VCALENDAR