BEGIN:VCALENDAR
VERSION:2.0
PRODID:-//wp-events-plugin.com//6.4.6.4//EN
TZID:Europe/Berlin
X-WR-TIMEZONE:Europe/Berlin
BEGIN:VEVENT
UID:2713@stottern.koeln
DTSTART;TZID=Europe/Berlin:20211019T193000
DTEND;TZID=Europe/Berlin:20211019T213000
DTSTAMP:20210319T000701Z
URL:https://stottern.koeln/events/videotraining-2021b/
SUMMARY:Videotraining
DESCRIPTION:Videotraining\nAuch dieses Jahr wird es im Rahmen der Gruppenab
 ende unser beliebtes „Videotraining“ geben. Wir bieten euch die Mögli
 chkeit\, konkrete Alltagssituationen wie Vorträge\, Stegreifreden oder Be
 ratungs- und Bewerbungsgespräche in Form von Rollenspielen zu üben. Dabe
 i habt ihr die Wahl\, ob ihr von uns vorgegebene Situationen üben möchte
 t\, oder ihr selbst für euch schwierige Situationen einbringt.\nVor der 
 Übungssituation legt ihr eure individuellen Ziele fest. Dies können der 
 Einsatz von bestimmten Sprech- und Stotterkontrollierungstechniken sein\, 
 oder auch einfach nur ein Fokus auf bewusstes Sprechen oder Blickkontakt -
  ganz wie ihr wollt.\nDie Kommunikationssituationen werden - sofern dies f
 ür euch in Ordnung ist - auf Video aufgenommen und unmittelbar nach der S
 ituationen zusammen angeschaut und ausgewertet. Dabei schauen wir uns an\,
  wie ihr eure zuvor festgelegten Ziele umgesetzt habt und insgesamt als 
 „Sprecher“ wirkt. \nDas Ziel der Aufnahmen und der gemeinsamen Auswert
 ung ist die Stärkung der „Selbstwahrnehmung“. Wir beobachten uns so s
 elbst und stellen Dinge fest\, die uns vielleicht gar nicht bewusst sind. 
 Der Vorteil einer Gruppen-Reflexion liegt in der Fülle an Ideen zur Gesta
 ltung und Verbesserung unseres Sprechens.\nSchaut doch rein und stellt euc
 h den Herausforderungen!
CATEGORIES:Themenabend
LOCATION:Doris-Roper-Haus\, Kreutzerstr. 5-9\, 50672 Köln\, Deutschland
GEO:50.9432256;6.9284873999999945
X-APPLE-STRUCTURED-LOCATION;VALUE=URI;X-ADDRESS=Kreutzerstr. 5-9\, 50672 K
 öln\, Deutschland;X-APPLE-RADIUS=100;X-TITLE=Doris-Roper-Haus:geo:50.9432
 256,6.9284873999999945
END:VEVENT
BEGIN:VTIMEZONE
TZID:Europe/Berlin
X-LIC-LOCATION:Europe/Berlin
BEGIN:DAYLIGHT
DTSTART:20210328T030000
TZOFFSETFROM:+0100
TZOFFSETTO:+0200
TZNAME:CEST
END:DAYLIGHT
END:VTIMEZONE
END:VCALENDAR