BEGIN:VCALENDAR
VERSION:2.0
PRODID:-//wp-events-plugin.com//6.4.6.4//EN
TZID:Europe/Berlin
X-WR-TIMEZONE:Europe/Berlin
BEGIN:VEVENT
UID:2715@stottern.koeln
DTSTART;TZID=Europe/Berlin:20210504T193000
DTEND;TZID=Europe/Berlin:20210504T213000
DTSTAMP:20210513T212307Z
URL:https://stottern.koeln/events/waffelcontest-2021a/
SUMMARY:Online-Gruppenabend ohne Moderation
DESCRIPTION:(Der ursprünglich für diesen Abend geplante Waffel-Contest mu
 ss Corona-bedingt entfallen. Wir drücken die Daumen das es im September e
 ndlich wieder klappt)\nOnline-Gruppenabend ohne Moderation\n\nDa das Inter
 esse an Online-Gruppenabenden deutlich nachgelassen hat\, haben wir uns en
 tschieden vorerst nur noch alle 14 Tage einen moderierten Abend anzubieten
 .\n\nUnser virtueller Gruppenraum ist trotzdem für euch geöffnet\, d.h. 
 ihr könnt euch trotzdem einwählen - und mit etwas Glück auf andere Grup
 penmitglieder treffen.\n\nNächste Woche gibt es dann wieder einen moderie
 rten Abend.\n\n&nbsp\;\n\nIhr erreicht unseren virtuellen Gruppenraum übe
 r diesen Zoom-Link:\nhttps://online.stottern.koeln\n\nMeeting-ID: 826 6421
  1517\nKenncode: 834 609\n\nEine Teilnahme ist auf zwei Wege möglich:\n\n
 1. Über den Computer/Laptop: Klickt einfach auf den Link oben. Ihr könnt
  dann die Zoom-App installieren oder über den Browser teilnehmen.\n\n2. 
 Über das Smartphone: Ladet euch die mobile App "ZOOM Cloud Meetings" und 
 installiert sie:\n\n\n 	Google PlayStore: https://play.google.com/store/a
 pps/details?id=us.zoom.videomeetings\n 	Apple AppStore: https://apps.appl
 e.com/de/app/zoom-cloud-meetings/id546505307\n\n\n\n\nKlickt dann auf den 
 Link oben und öffnet ihn mit der installierten App.\n\n&nbsp\;\n\nEin Acc
 ount wird nicht benötigt. Ihr werdet lediglich nach einem Anzeigenamen un
 d einer Mailadresse gefragt\, aber diese wird nicht verwendet.\n\nBitte be
 nutzt falls möglich ein Headset oder zumindest Kopfhörer um Probleme dur
 ch Rückkopplungen zu vermeiden.\n\nFalls ihr die Audioverbindung aus irge
 ndeinem Grund nicht direkt über den Computer bzw. die App herstellen kön
 nt/wollt\, könnt ihr euch alternativ auch über diesen Direktlink telefon
 isch einwählen. Alternativ könnt ihr auch manuell die Festnetznummer 069
  7104 9922 anrufen und die o.g. Meeting-ID und den Kenncode eingeben.\n\n\
 n\nBei Fragen und Anregungen könnt ihr euch gerne jederzeit melden.\n\n&n
 bsp\;\n\n&nbsp\;
CATEGORIES:Gruppenabend,Themenabend
END:VEVENT
BEGIN:VTIMEZONE
TZID:Europe/Berlin
X-LIC-LOCATION:Europe/Berlin
BEGIN:DAYLIGHT
DTSTART:20210328T030000
TZOFFSETFROM:+0100
TZOFFSETTO:+0200
TZNAME:CEST
END:DAYLIGHT
END:VTIMEZONE
END:VCALENDAR