BEGIN:VCALENDAR
VERSION:2.0
PRODID:-//wp-events-plugin.com//6.4.6.4//EN
TZID:Europe/Berlin
X-WR-TIMEZONE:Europe/Berlin
BEGIN:VEVENT
UID:2717@stottern.koeln
DTSTART;TZID=Europe/Berlin:20210921T193000
DTEND;TZID=Europe/Berlin:20210921T213000
DTSTAMP:20210912T070343Z
URL:https://stottern.koeln/events/waffelcontest-2021b/
SUMMARY:Waffelcontest - von Mitgliedern für Mitglieder
DESCRIPTION:Waffelcontest - von Mitgliedern für Mitglieder\nAuf Grund der 
 guten Resonanz aus den Vorjahren möchten wir in diesem Jahr nicht nur im 
 Dezember beim Gruppenabend leckere Waffeln backen\, sondern an insgesamt d
 rei Terminen!\nSomit bietet sich jetzt die Gelegenheit bei frisch gebacken
 en Waffeln selbsthilfegruppenübergreifend zusammen zu kommen und sich in 
 schöner Atmosphäre untereinander auszutauschen.\nSeid ihr dabei? Freunde
  &amp\; Partner sind ebenfalls ❤-lich willkommen.\n\n&nbsp\;
CATEGORIES:Gruppenabend,Themenabend
LOCATION:Doris-Roper-Haus\, Kreutzerstr. 5-9\, 50672 Köln\, Deutschland
GEO:50.9432256;6.9284873999999945
X-APPLE-STRUCTURED-LOCATION;VALUE=URI;X-ADDRESS=Kreutzerstr. 5-9\, 50672 K
 öln\, Deutschland;X-APPLE-RADIUS=100;X-TITLE=Doris-Roper-Haus:geo:50.9432
 256,6.9284873999999945
END:VEVENT
BEGIN:VTIMEZONE
TZID:Europe/Berlin
X-LIC-LOCATION:Europe/Berlin
BEGIN:DAYLIGHT
DTSTART:20210328T030000
TZOFFSETFROM:+0100
TZOFFSETTO:+0200
TZNAME:CEST
END:DAYLIGHT
END:VTIMEZONE
END:VCALENDAR