BEGIN:VCALENDAR
VERSION:2.0
PRODID:-//wp-events-plugin.com//6.4.6.4//EN
TZID:Europe/Berlin
X-WR-TIMEZONE:Europe/Berlin
BEGIN:VEVENT
UID:2716@stottern.koeln
DTSTART;TZID=Europe/Berlin:20211207T193000
DTEND;TZID=Europe/Berlin:20211207T213000
DTSTAMP:20211205T103002Z
URL:https://stottern.koeln/events/waffelcontest-von-mitgliedern-fuer-mitgl
 ieder/
SUMMARY:Waffelcontest - von Mitgliedern für Mitglieder
DESCRIPTION:Waffelcontest - von Mitgliedern für Mitglieder\n\nDer Gruppena
 bend findet unter Einhaltung der 2G Regelung statt. Wir haben die Teilnehm
 er aufgrund der Corona Pandemie auf 7 Personen begrenzt. Willkommen sind u
 ns aber weiterhin alle\, die interessiert sich über das Thema Stottern au
 szutauschen. Bitte meldet Euch über Dorothea oder per Mail an info@stotte
 rn.koeln an.\nAuf Grund der guten Resonanz aus den Vorjahren möchten wir 
 in diesem Jahr nicht nur im Dezember beim Gruppenabend leckere Waffeln bac
 ken\, sondern an insgesamt drei Terminen!\nSomit bietet sich jetzt die Gel
 egenheit bei frisch gebackenen Waffeln selbsthilfegruppenübergreifend zus
 ammen zu kommen und sich in schöner Atmosphäre untereinander auszutausch
 en.\nAnmeldungen nimmt Dorothea Dootz entgegen. Sie koordiniert alle Dinge
 \, die für diese Aktion benötigt werden.\n&nbsp\;\n\nSeid ihr dabei? Fre
 unde &amp\; Partner sind ebenfalls ❤-lich willkommen.\n\n&nbsp\;
CATEGORIES:Gruppenabend
LOCATION:Doris-Roper-Haus\, Kreutzerstr. 5-9\, 50672 Köln\, Deutschland
GEO:50.9432256;6.9284873999999945
X-APPLE-STRUCTURED-LOCATION;VALUE=URI;X-ADDRESS=Kreutzerstr. 5-9\, 50672 K
 öln\, Deutschland;X-APPLE-RADIUS=100;X-TITLE=Doris-Roper-Haus:geo:50.9432
 256,6.9284873999999945
END:VEVENT
BEGIN:VTIMEZONE
TZID:Europe/Berlin
X-LIC-LOCATION:Europe/Berlin
BEGIN:STANDARD
DTSTART:20211031T020000
TZOFFSETFROM:+0200
TZOFFSETTO:+0100
TZNAME:CET
END:STANDARD
END:VTIMEZONE
END:VCALENDAR