BEGIN:VCALENDAR
VERSION:2.0
PRODID:-//wp-events-plugin.com//6.4.6.4//EN
TZID:Europe/Berlin
X-WR-TIMEZONE:Europe/Berlin
BEGIN:VEVENT
UID:2721@stottern.koeln
DTSTART;TZID=Europe/Berlin:20211221T193000
DTEND;TZID=Europe/Berlin:20211221T213000
DTSTAMP:20211221T113723Z
URL:https://stottern.koeln/events/weihnachtsmarkt2021/
SUMMARY:abgesagt :: In-vivo-Weihnachtsmarkt
DESCRIPTION:In-vivo-Weihnachtsmarkt\n\nNachdem es im  letzten Jahr keine W
 eihnachtsmärkte gab\, hoffen wir\, dass wir dieses Jahr wieder am letzten
  Gruppenabend vor Weihnachten den Weihnachtsmarkt im Stadtgarten besuchen 
 können. Nach einem kurzen Blitzlicht im Gruppenraum werden wir gemeinsam 
 zum Weihnachtsmarkt gehen und dort nicht nur den wärmenden Glühwein geni
 eßen\, sondern uns auch einigen sprachlichen Herausforderungen stellen: B
 eispielsweise sich an den Verkaufsbuden beraten lassen oder Informationen 
 zu Zutaten\, Allergenen oder ähnlichem einholen.\n\nAuch der Austausch un
 tereinander soll nicht zu kurz kommen. Wir freuen uns auf einen entspannte
 n Abend mit euch auf dem Weihnachtsmarkt!\n\nDer Gruppenabend findet unter
  Einhaltung der 2G Regelung statt. Wir haben die Teilnehmer aufgrund der C
 orona Pandemie auf 7 Personen begrenzt. Willkommen sind uns aber weiterhin
  alle\, die interessiert sich über das Thema Stottern auszutauschen. Bitt
 e meldet Euch über die Homepage (siehe unten) an.\n\nTermin: Dienstag\, 2
 1. Dezember 2021 um 19:30 Uhr\n\nTreffpunkt:  Doris-Roper-Haus\, Kreutzers
 tr. 5-9\, 50672 Köln
CATEGORIES:Gruppenabend,In vivo - Mitten im Leben
LOCATION:Doris-Roper-Haus\, Kreutzerstr. 5-9\, 50672 Köln\, Deutschland
GEO:50.9432256;6.9284873999999945
X-APPLE-STRUCTURED-LOCATION;VALUE=URI;X-ADDRESS=Kreutzerstr. 5-9\, 50672 K
 öln\, Deutschland;X-APPLE-RADIUS=100;X-TITLE=Doris-Roper-Haus:geo:50.9432
 256,6.9284873999999945
END:VEVENT
BEGIN:VTIMEZONE
TZID:Europe/Berlin
X-LIC-LOCATION:Europe/Berlin
BEGIN:STANDARD
DTSTART:20211031T020000
TZOFFSETFROM:+0200
TZOFFSETTO:+0100
TZNAME:CET
END:STANDARD
END:VTIMEZONE
END:VCALENDAR